BEGIN:VCALENDAR
VERSION:2.0
PRODID:-//Centro Nacional de las Artes Delia Zapata Olivella - ECPv5.12.4//NONSGML v1.0//EN
CALSCALE:GREGORIAN
METHOD:PUBLISH
X-WR-CALNAME:Centro Nacional de las Artes Delia Zapata Olivella
X-ORIGINAL-URL:https://eneldelia.gov.co
X-WR-CALDESC:Events for Centro Nacional de las Artes Delia Zapata Olivella
REFRESH-INTERVAL;VALUE=DURATION:PT1H
X-Robots-Tag:noindex
X-PUBLISHED-TTL:PT1H
BEGIN:VTIMEZONE
TZID:America/Bogota
BEGIN:STANDARD
TZOFFSETFROM:-0500
TZOFFSETTO:-0500
TZNAME:-05
DTSTART:20260101T000000
END:STANDARD
END:VTIMEZONE
BEGIN:VEVENT
DTSTART;TZID=America/Bogota:20260318T193000
DTEND;TZID=America/Bogota:20260318T193000
DTSTAMP:20260423T222011
CREATED:20260307T220137Z
LAST-MODIFIED:20260313T174009Z
UID:64227-1773862200-1773862200@eneldelia.gov.co
SUMMARY:8M - 8 Maestras - Conversatorio con Ana Veydó
DESCRIPTION:Inscripciones\n\n\n\n\nAna Veydó\, es una laureada cantadora de joropo recio y líder del grupo musical Cimarrón\, con más de 25 años de carrera artística internacional. Reconocida por el The New York Times como “la artista que desafía los límites del joropo”\, Veydó ha impulsado una propuesta escénica que combina potencia vocal\, zapateo y virtuosismo instrumental\, transformando el joropo en una experiencia artística de alcance global y formando generaciones de músicos que integran música\, danza y dramatismo en escena. \n\n\n\nBajo su liderazgo\, Cimarrón ha llevado la música del Orinoco a escenarios de 43 países y ha marcado hitos como la nominación al Grammy Awards en la categoría de Mejor Álbum de Música Tradicional del Mundo\, la nominación al Latin Grammy Awards por Orinoco (2019) y el reconocimiento como Mejor Grupo en los Songlines Music Awards del Reino Unido. Su propuesta artística\, destacada también por Forbes\, ha consolidado a la agrupación como una de las más influyentes en la proyección internacional de la música tradicional colombiana. \n\n\n\n8M 8 MaestrasMujeres construyendo escena y trasescena \n\n\n\n\n\nINFORMACIÓN:\n\n\n\nFecha: 18 de marzo de 2026 \n\n\n\nHora: 7:30 p.m. \n\n\n\nLugar: Sala Teresita Gómez \n\n\n\nBogotá\, Colombia. \n\n\n\nCentro Nacional de las Artes Delia Zapata Olivella. \n\n\n\nMinisterio de las Culturas\, las Artes y los Saberes
URL:https://eneldelia.gov.co/event/8m-8-maestras-conversatorio-con-ana-veydo/
CATEGORIES:8M 8 Maestras,Inscripción Previa
ATTACH;FMTTYPE=image/jpeg:/wp-content/uploads/2026/03/Post-Web-Home-Ana-Veydo-1080-px-x-1350-2-scaled.jpg
END:VEVENT
END:VCALENDAR