BEGIN:VCALENDAR
VERSION:2.0
PRODID:-//Centro Nacional de las Artes Delia Zapata Olivella - ECPv5.12.4//NONSGML v1.0//EN
CALSCALE:GREGORIAN
METHOD:PUBLISH
X-WR-CALNAME:Centro Nacional de las Artes Delia Zapata Olivella
X-ORIGINAL-URL:https://eneldelia.gov.co
X-WR-CALDESC:Events for Centro Nacional de las Artes Delia Zapata Olivella
REFRESH-INTERVAL;VALUE=DURATION:PT1H
X-Robots-Tag:noindex
X-PUBLISHED-TTL:PT1H
BEGIN:VTIMEZONE
TZID:America/Bogota
BEGIN:STANDARD
TZOFFSETFROM:-0500
TZOFFSETTO:-0500
TZNAME:-05
DTSTART:20250101T000000
END:STANDARD
END:VTIMEZONE
BEGIN:VEVENT
DTSTART;TZID=America/Bogota:20250315T090000
DTEND;TZID=America/Bogota:20250315T120000
DTSTAMP:20260424T070008
CREATED:20250308T013553Z
LAST-MODIFIED:20250310T104425Z
UID:47270-1742029200-1742040000@eneldelia.gov.co
SUMMARY:8M - Taller ¡NO! Defensa personal para cuerpos en escena
DESCRIPTION:Inscripción\n\n\n\n\nEl Taller ¡NO! Defensa personal para cuerpos en escena es un espacio dirigido a mujeres creadoras escénicas que busca brindar herramientas de autodefensa verbal y física\, promoviendo entornos seguros dentro de la práctica teatral. La formación estará a cargo de Natalia Cortés Rocha y Julián Povea Díaz\, integrantes de la Secretaría de Mujer y Género de la Asociación Colombiana de Actrices y Actores (ACA)\, quienes aportan su experiencia en el diseño de estrategias para la prevención de violencias en las artes escénicas. \n\n\n\nBasado en las técnicas del Teatro del Oprimido\, sistematizadas por el dramaturgo brasileño Augusto Boal\, el taller propone utilizar el teatro como herramienta de cambio social y político\, invitando a reflexionar sobre las relaciones de poder y a explorar formas de resistencia frente a situaciones de opresión. A través de metodologías participativas\, las asistentes trabajarán en estrategias de protección\, consentimiento y construcción de límites en escena\, fortaleciendo su autonomía y capacidad de acción. \n\n\n\nEsta iniciativa responde a la urgencia de enfrentar las violencias de género en el sector artístico desde una perspectiva colectiva y transformadora\, impulsando redes de apoyo y promoviendo prácticas escénicas más conscientes\, equitativas y cuidadosas. \n\n\n\nNoticiaPor los derechos y la dignidad cultural\, el Centro Nacional de las Artes conmemora el 8M \n\n\n\n\n\nINFORMACIÓN:\n\n\n\nFecha: 15 de marzo de 2025Hora: 9:00 a.m. a 12:00 m.Lugar: Sala Mallarino – Teatro Colón \n\n\n\n*Entrada libre con inscripción previa \n\n\n\nConmemoración 8MPor los derechos y la dignidad cultural \n\n\n\nCentro Nacional de las ArtesDelia Zapata Olivella \n\n\n\nMinisterio de las Culturas\, las Artes y los Saberes
URL:https://eneldelia.gov.co/event/8m-taller-no-defensa-personal-para-cuerpos-en-escena/
CATEGORIES:Comunidad,Encuentro,Entrada Libre,Música,Taller
ATTACH;FMTTYPE=image/jpeg:/wp-content/uploads/2025/03/defensa-personal.jpg
END:VEVENT
END:VCALENDAR