BEGIN:VCALENDAR
VERSION:2.0
PRODID:-//Centro Nacional de las Artes Delia Zapata Olivella - ECPv5.12.4//NONSGML v1.0//EN
CALSCALE:GREGORIAN
METHOD:PUBLISH
X-WR-CALNAME:Centro Nacional de las Artes Delia Zapata Olivella
X-ORIGINAL-URL:https://eneldelia.gov.co
X-WR-CALDESC:Events for Centro Nacional de las Artes Delia Zapata Olivella
REFRESH-INTERVAL;VALUE=DURATION:PT1H
X-Robots-Tag:noindex
X-PUBLISHED-TTL:PT1H
BEGIN:VTIMEZONE
TZID:America/Bogota
BEGIN:STANDARD
TZOFFSETFROM:-0500
TZOFFSETTO:-0500
TZNAME:-05
DTSTART:20240101T000000
END:STANDARD
END:VTIMEZONE
BEGIN:VEVENT
DTSTART;TZID=America/Bogota:20240322T160000
DTEND;TZID=America/Bogota:20240330T170000
DTSTAMP:20260422T144901
CREATED:20240316T193236Z
LAST-MODIFIED:20240321T091010Z
UID:33133-1711123200-1711818000@eneldelia.gov.co
SUMMARY:Actividades de Mediación - Encuentro del Agua y de la Tierra
DESCRIPTION:El El Encuentro del Agua y de la Tierra incluye en su programación espacios pedagógicos con charlas\, talleres y recorridos gratuitos durante los cuatro días . Un diálogo necesario para conectarnos con el planeta. \n\n\n\n\nCharla – Río\, selva y desierto: música\, palabra e interconexiónEl Encuentro del agua y de la Tierra en el Centro Nacional de las Artes Delia Zapata Olivella\, incluye en su programación espacios pedagógicos con charlas y talleres gratuitos durante los cuatro días. Un diálogo necesario para conectarnos con el planeta. \n\n\n\n\nLa charla Río\, selva y desierto: música\, palabra e interconexión busca generar un espacio de reflexión sobre el relacionamiento del ser humano con la naturaleza\, desde las voces de tres artistas invitados al Encuentro. Medhi Nassouli\, un artista marroquí entrelazado con el desierto del Sahara\, que encarna esa compleja liturgia derivada de lo africano\, lo árabe y lo amazigh\, conversará con los integrantes de Sensación Salvaje y Amazónica\, un proyecto musical integrado por miembros de cuatro comunidades indígenas del oriente del Vaupés\, que fusiona ritmos tradicionales de la región amazónica con sonidos contemporáneos\, explorando la rica diversidad cultural y natural de este territorio. Ambos proyectos dialogarán con Carmen Gil Vrolijk\, directora artística de La Quinta del Lobo\, creadores de el performance inmersivo ‘Habūb (escrituras de arena y agua)’\, una puesta que se estrena en el Delia y que pone sobre la mesa el imaginario del Amazonas y una reflexión poética sobre los universos invisibles que nos rodean y que constituyen el delicado equilibrio de la tierra.  \n\n\n\nModeración:  Fundación Gaia Amazonas \n\n\n\nInvitados:  \n\n\n\n\nCarmen Gil Vrolijk – Directora artística de La Quinta del Lobo\n\n\n\nMartín Prada y Juan José Uribe – Agrupación Sensación Salvaje Amazónica/Danzadores de música ancestral amazónica\n\n\n\nMehdi Nassouli – Artista de Marruecos\n\n\n\n\nFecha: viernes 22 de marzo Hora: 4:00 p.m. Lugar: Salón VerdeEntrada libre con inscripción previa\, cupos limitados \n\n\n\n\nCírculo de palabraJmm j++ / El territorio\, la memoria y el futuroHijos del tabaco\, la coca y la yuca dulceEn este ejercicio participativo\, discutiremos el proceso de creación de la obra Habūb\, escrituras de arena y agua\, su conexión y encuentro con lo sagrado\, así como los conocimientos ancestrales y prácticas propias de los pueblos okaina y uitoto de la Amazonía colombiana. Dos de sus representantes\, Elio y Jose Pablo\, hijos de La Chorrera\, visitan Bogotá para participar de estas actividades\, en un viaje que es posible gracias a una ruta aérea que conecta estos dos apartados lugares cada dos semanas.\n\n\n\n\nInvitados:  \n\n\n\n\nElio Buinaje – Líder indígena del pueblo uitoto de La Chorrera\, Amazonas.\n\n\n\nJose Pablo Neikase N+ikaz+ – Líder indígena de pueblo okaina de La Chorrera Amazonas \n\n\n\nHernán Gómez ‘Chona’ – Profesional temático de Amazon Conservation Team \n\n\n\nCarmen Gil Vrolijk – Directora artística de La Quinta del Lobo\n\n\n\n\nFecha: sábado 23 de marzoHora: 10:00 a.m. Lugar: Salón VerdeEntrada libre con inscripción previa\, cupos limitados \n\n\n\n\nCharla La voz del agua en los territoriosHabitantes de lugares profundamente entrelazados con la vida a través de su contacto con el agua\, brindarán su perspectiva única desde el canto\, los saberes y las luchas históricas sobre su cuidado. La cantadora Martina Camargo\, el representante del Consejo Comunitario Mayor de la Asociación Campesina Integral del Atrato Cocomacia y la lideresa del pueblo archuaco Ati Quigua crearán un espacio de reflexión sobre la lectura\, el relacionamiento\, el sentir y la defensa del agua.\n\n\n\n\nModera: Instituto Humboldt  \n\n\n\nInvitados: \n\n\n\n\nAti Quigua – Lideresa del pueblo arhuaco\n\n\n\nAlexander Rodríguez – Ekobio y guardián COCOMACIA: Consejo Comunitario Mayor de la Asociación Campesina Integral del Atrato\n\n\n\nMartina Camargo – compositora y cantadora tradicional de San Martin de Loba\, Bolívar.\n\n\n\n\nFecha: sábado 23 de marzo Hora: 2:30 p.m. Lugar: Foyer Teatro Colón Entrada libre con inscripción previa\, cupos limitados \n\n\n\n\n‘Habūb (escrituras de arena y agua)’Visita comentada multisensorial\, apta para personas con o sin discapacidad visual.En esta visita multisensorial hablaremos de los elementos que componen la obra Habūb. Haremos un recorrido desde los sentidos y los elementos inmersivos que hacen de esta obra una puesta en escena única.\n\n\n\n\nMediador: Jefferson Ramirez  \n\n\n\nFecha: domingo 24 de MarzoHora 1:00 p.m. Lugar: Sala Fanny Mikey Entrada libre  \n\n\n\n\nCharla Desarmonías y cuidado de la vidaLa memoria viva de La Chorrera y la concepción ambiental desde la tradición de la gente de centro. Hijos del tabaco\, la coca y la yuca dulceLos pueblos uitoto y okaina de La Chorrera en el Amazonas\, a los que solo se puede llegar por una ruta aérea desde Bogotá cada dos semanas\, han enviado a algunos de sus representantes al Encuentro del Agua y de la Tierra en el Delia. Esta charla\, será una oportunidad para escuchar sus voces y recorrer juntos el camino desde la conservación ambiental\, la tradición y la espiritualidad propias de los pueblos de la Amazonía. A través de las experiencias narradas por Elio y Jose Pablo\, hijos de La Chorrera\, exploraremos los paisajes y las secuelas de la violencia dejada por la cauchería.\n\n\n\n\nInvitados:  \n\n\n\n\nElio Buinaje – Líder indígena del pueblo uitoto de La Chorrera\, Amazonas.\n\n\n\nJose Pablo Neikase N+ikaz+ – Líder indígena de pueblo okaina de La Chorrera Amazonas \n\n\n\n\nFecha: sábado 30 de marzo Hora: 2:30 p.m. Lugar:  Sala Sinfónica Entrada libre con inscripción previa  \n\n\n\n\nHabūb tras bambalinas: Iluminación\, música y escena. Visita comentadaEsta visita comentada se hablará sobre el proceso de creación de la obra ‘Habūb (escrituras de arena y agua)’ y los elementos que la componen desde la música\, la iluminación y la escena. \n\n\n\n\nInvitados: \n\n\n\n\nCarmen Gil Vrolijk – Directora artística de La Quinta del Lobo\n\n\n\nCamilo Giraldo -Compositor y productor \n\n\n\nLuis David Cáceres – Maestro en Artes Plásticas y Visuales\n\n\n\n\nFecha: sábado 30 de marzoHora: 5:00 p.m. Lugar: Sala Fanny Mikey Entrada libre  \n\n\n\n\n\nINFORMACIÓN\n\n\n\nFecha: 22 de marzo al 30 de marzo \n\n\n\nCalle 10 # 5 – 60 Bogotá\, Colombia.Centro Nacional de las Artes Delia Zapata Olivella. \n\n\n\n\nINSCRIPCIONES
URL:https://eneldelia.gov.co/event/actividades-mediacion-agua-tierra/
CATEGORIES:CHARLA,Comunidad,CONVERSATORIO,Encuentro,Música,Taller
ATTACH;FMTTYPE=image/jpeg:/wp-content/uploads/2024/03/Mediación-destacado_01-portada.jpeg
END:VEVENT
END:VCALENDAR