BEGIN:VCALENDAR
VERSION:2.0
PRODID:-//Centro Nacional de las Artes Delia Zapata Olivella - ECPv5.12.4//NONSGML v1.0//EN
CALSCALE:GREGORIAN
METHOD:PUBLISH
X-WR-CALNAME:Centro Nacional de las Artes Delia Zapata Olivella
X-ORIGINAL-URL:https://eneldelia.gov.co
X-WR-CALDESC:Events for Centro Nacional de las Artes Delia Zapata Olivella
REFRESH-INTERVAL;VALUE=DURATION:PT1H
X-Robots-Tag:noindex
X-PUBLISHED-TTL:PT1H
BEGIN:VTIMEZONE
TZID:America/Bogota
BEGIN:STANDARD
TZOFFSETFROM:-0500
TZOFFSETTO:-0500
TZNAME:-05
DTSTART:20240101T000000
END:STANDARD
END:VTIMEZONE
BEGIN:VEVENT
DTSTART;TZID=America/Bogota:20240317T110000
DTEND;TZID=America/Bogota:20240317T110000
DTSTAMP:20260422T131335
CREATED:20240311T040434Z
LAST-MODIFIED:20240311T181802Z
UID:32847-1710673200-1710673200@eneldelia.gov.co
SUMMARY:Batucada Teatral
DESCRIPTION:Teatro –  Batucada Teatral de Tropa Teatro\n\n\n\nCon payasos vestidos de colores\, que aprovechan la flexibilidad del golpe primigenio de las batucadas\, para mezclar los sonidos raizales colombianos con música hindú\, africana y oriental\, La Tropa Teatro nos invita a sumergirnos en un carnaval. Esta compañía\, nacida en Pereira en el año 2003\, fusionó la actuación\, las marionetas\, el canto\, el ritmo\, el baile\, el maquillaje\, el vestuario y un largo etcétera\, para dar vida a La Batucada Teatral: una propuesta ecléctica\, que desafía la cotidianidad\, nos integra en su acto y nos conmueve con su potencia. \n\n\n\nCon una investigación actoral\, musical y plástica\, que encuentra sus cimientos en el universo de lo marginal\, es un espectáculo músico-teatral que se desarrolla a través de cuadros que van llevando a los espectadores por un carrusel de ficciones. Lo ambulante\, lo desechado\, los olvidados\, la guerra\, la muerte\, el luto y la realidad de nuestro territorio\, son todos elementos que capturan en un acto que exhibe la metamorfosis de una sociedad en constante cambio y reconstrucción acelerada. \n\n\n\nNo importa dónde se presenten\, en espacios públicos o privados\, cerrados o abiertos\, La Batucada Teatral irrumpe en el espacio para\, a ritmo de clarinete\, tambora\, djembe\, bombo\, pandereta y guache\, conjugar el color con la instalación corporal; a lo que suman un toque de clown\, fantasía y humor negro\, para hacer por un momento de la vida una auténtica verbena. \n\n\n\nNoticiaCon el clásico Pinocho y una batucada teatral\, el Delia invita a su programación familiar  \n\n\n\n\n\nFICHA TÉCNICA:\n\n\n\n \n\n\n\nFechas: 17 de marzo 2024Hora: 11:00 a.m. \n\n\n\nDirector: José Alonso Mejía Román \n\n\n\nPlazoletaCalle 10 # 5 – 60 Bogotá\, Colombia.Centro Nacional de las Artes Delia Zapata Olivella. \n\n\n\n*Todo público \n\n\n\n\nENTRADA LIBRE
URL:https://eneldelia.gov.co/event/batucada-teatral/
CATEGORIES:Rin Rin,Teatro
ATTACH;FMTTYPE=image/jpeg:/wp-content/uploads/2024/03/Batucada_Destacado.jpeg
END:VEVENT
END:VCALENDAR