BEGIN:VCALENDAR
VERSION:2.0
PRODID:-//Centro Nacional de las Artes Delia Zapata Olivella - ECPv5.12.4//NONSGML v1.0//EN
CALSCALE:GREGORIAN
METHOD:PUBLISH
X-WR-CALNAME:Centro Nacional de las Artes Delia Zapata Olivella
X-ORIGINAL-URL:https://eneldelia.gov.co
X-WR-CALDESC:Events for Centro Nacional de las Artes Delia Zapata Olivella
REFRESH-INTERVAL;VALUE=DURATION:PT1H
X-Robots-Tag:noindex
X-PUBLISHED-TTL:PT1H
BEGIN:VTIMEZONE
TZID:America/Bogota
BEGIN:STANDARD
TZOFFSETFROM:-0500
TZOFFSETTO:-0500
TZNAME:-05
DTSTART:20230101T000000
END:STANDARD
END:VTIMEZONE
BEGIN:VEVENT
DTSTART;TZID=America/Bogota:20230927T170000
DTEND;TZID=America/Bogota:20230927T190000
DTSTAMP:20260422T020617
CREATED:20230925T210533Z
LAST-MODIFIED:20230926T233309Z
UID:25866-1695834000-1695841200@eneldelia.gov.co
SUMMARY:CHARLAS CANTADAS
DESCRIPTION:ReVersar – Festival de Cantautores –  Charlas Cantadas \n\n\n\nEl Centro Nacional de las Artes Delia Zapata Olivella invita: \n\n\n\nSon un espacio en el que cantautores nacionales e internacionales de larga trayectoria\, contarán al público a través de charlas cortas\, su experiencia artística\, hablarán sobre su inspiración y contarán las historias detrás de la creación de las canciones presentarán #EnElDelia.  \n\n\n\nEl objetivo de este espacio es inspirar e incentivar a crear y componer\, a los artistas y público asistente\, sus propias canciones.  \n\n\n\n  \n\n\n\n\n\nFICHA TÉCNICA:\n\n\n\n \n\n\n\n27 de septiembre / 5:00 p.m. \n\n\n\nSala Delia ZapataCalle 10 # 5 – 60 Bogotá\, Colombia.Centro Nacional de las Artes Delia Zapata Olivella \n\n\n\n \n\n\n\n\nENTRADA LIBRE
URL:https://eneldelia.gov.co/event/charlas-cantadas/
CATEGORIES:CONCIERTOS,Música,RE-VERSAR
ATTACH;FMTTYPE=image/jpeg:/wp-content/uploads/2023/09/banner-destacado-100-2.jpeg
END:VEVENT
END:VCALENDAR