BEGIN:VCALENDAR
VERSION:2.0
PRODID:-//Centro Nacional de las Artes Delia Zapata Olivella - ECPv5.12.4//NONSGML v1.0//EN
CALSCALE:GREGORIAN
METHOD:PUBLISH
X-WR-CALNAME:Centro Nacional de las Artes Delia Zapata Olivella
X-ORIGINAL-URL:https://eneldelia.gov.co
X-WR-CALDESC:Events for Centro Nacional de las Artes Delia Zapata Olivella
REFRESH-INTERVAL;VALUE=DURATION:PT1H
X-Robots-Tag:noindex
X-PUBLISHED-TTL:PT1H
BEGIN:VTIMEZONE
TZID:America/Bogota
BEGIN:STANDARD
TZOFFSETFROM:-0500
TZOFFSETTO:-0500
TZNAME:-05
DTSTART:20250101T000000
END:STANDARD
END:VTIMEZONE
BEGIN:VEVENT
DTSTART;TZID=America/Bogota:20250509T200000
DTEND;TZID=America/Bogota:20250509T200000
DTSTAMP:20260421T075540
CREATED:20250423T193349Z
LAST-MODIFIED:20250508T140121Z
UID:49554-1746820800-1746820800@eneldelia.gov.co
SUMMARY:Concierto - Pedro Aznar 5.0 - Nueva fecha
DESCRIPTION:TuBoleta\n\n\n\n\nEl legendario músico argentino Pedro Aznar llega al Teatro Colón del Centro Nacional de las Artes con su gira Pedro Aznar 5.0 – 50 años de música\, una celebración vibrante de su extraordinaria trayectoria. \n\n\n\nDesde Serú Girán hasta el Pat Metheny Group\, Aznar ha dejado una huella imborrable en el rock y el jazz latinoamericano. Ganador de múltiples premios Grammy\, ha compartido escenario y estudio con figuras como Charly García\, Gustavo Cerati\, Mercedes Sosa\, Fito Páez y Caetano Veloso. \n\n\n\nEn este concierto especial\, Pedro Aznar interpretará sus grandes éxitos\, junto a nuevas composiciones\, en una noche cargada de emoción\, virtuosismo y poesía. Un recorrido musical de cinco décadas\, en la voz y el alma de uno de los artistas más influyentes del continente. \n\n\n\nNoticiaPedro Aznar celebra 50 años de trayectoria\, con dos conciertos en Colombia \n\n\n\n\n\nINFORMACIÓN:\n\n\n\nFecha: 9 de mayo de 2025 \n\n\n\nHora: 8:00 p.m. \n\n\n\nLugar: Teatro Colón  \n\n\n\nBogotá \n\n\n\nCentro Nacional de las ArtesDelia Zapata Olivella \n\n\n\nMinisterio de las Culturas\, las Artes y los Saberes
URL:https://eneldelia.gov.co/event/concierto-pedro-aznar-5-0-nueva-fecha/
CATEGORIES:Concierto,Música
ATTACH;FMTTYPE=image/jpeg:/wp-content/uploads/2025/04/Pedro-aznar-agotado-segunda-fecha.jpeg
END:VEVENT
END:VCALENDAR