BEGIN:VCALENDAR
VERSION:2.0
PRODID:-//Centro Nacional de las Artes Delia Zapata Olivella - ECPv5.12.4//NONSGML v1.0//EN
CALSCALE:GREGORIAN
METHOD:PUBLISH
X-WR-CALNAME:Centro Nacional de las Artes Delia Zapata Olivella
X-ORIGINAL-URL:https://eneldelia.gov.co
X-WR-CALDESC:Events for Centro Nacional de las Artes Delia Zapata Olivella
REFRESH-INTERVAL;VALUE=DURATION:PT1H
X-Robots-Tag:noindex
X-PUBLISHED-TTL:PT1H
BEGIN:VTIMEZONE
TZID:America/Bogota
BEGIN:STANDARD
TZOFFSETFROM:-0500
TZOFFSETTO:-0500
TZNAME:-05
DTSTART:20250101T000000
END:STANDARD
END:VTIMEZONE
BEGIN:VEVENT
DTSTART;TZID=America/Bogota:20250316T090000
DTEND;TZID=America/Bogota:20250316T170000
DTSTAMP:20260424T111354
CREATED:20250308T021954Z
LAST-MODIFIED:20250313T173221Z
UID:47572-1742115600-1742144400@eneldelia.gov.co
SUMMARY:Conciertos - A mercar con ritmo - Absalón y Afropacífico
DESCRIPTION:Entrada Libre\n\n\n\n\nAbsalón y Afropacífico es una agrupación nacida en Bogotá en 2010 con el propósito de preservar y difundir las músicas tradicionales del Pacífico Sur colombiano\, integrándolas con sonoridades contemporáneas. Su propuesta fusiona ritmos ancestrales y africanos con elementos modernos\, incorporando la marimba de chonta\, el bombo\, los cununos y los cantos tradicionales junto a instrumentos como la batería\, el bajo\, la guitarra\, el piano\, el saxofón\, la trompeta y el trombón. A través de su música\, abordan temáticas sociales\, territoriales\, románticas y festivas\, contribuyendo a la evolución y proyección de las tradiciones del Pacífico. \n\n\n\nSu trayectoria los ha llevado a importantes escenarios nacionales e internacionales\, incluyendo el Festival de Música del Pacífico Petronio Álvarez\, Colombia al Parque\, Estéreo Picnic\, el Festival Glastonbury en Inglaterra y el Festival PanAfricano en Ghana. Además\, han participado en plataformas clave de la industria musical como el Bomm en Bogotá y Circulart en Medellín\, consolidando su presencia en diversos mercados y cautivando audiencias con una propuesta que mantiene viva la esencia de su territorio. \n\n\n\n\n\nINFORMACIÓN:\n\n\n\nFechas: 16 de marzo de 2025 \n\n\n\nHoras: 9:00 a.m. a 5:00 p.m. \n\n\n\nLugar: Plazoleta CNA \n\n\n\n¡A mercar con ritmo! \n\n\n\nCentro Nacional de las ArtesDelia Zapata Olivella \n\n\n\nMinisterio de las Culturas\, las Artes y los Saberes
URL:https://eneldelia.gov.co/event/conciertos-a-mercar-con-ritmo-absalon-y-afropacifico/
CATEGORIES:Concierto,Entrada Libre
ATTACH;FMTTYPE=image/png:/wp-content/uploads/2025/03/Absalon.png
END:VEVENT
END:VCALENDAR