BEGIN:VCALENDAR
VERSION:2.0
PRODID:-//Centro Nacional de las Artes Delia Zapata Olivella - ECPv5.12.4//NONSGML v1.0//EN
CALSCALE:GREGORIAN
METHOD:PUBLISH
X-WR-CALNAME:Centro Nacional de las Artes Delia Zapata Olivella
X-ORIGINAL-URL:https://eneldelia.gov.co
X-WR-CALDESC:Events for Centro Nacional de las Artes Delia Zapata Olivella
REFRESH-INTERVAL;VALUE=DURATION:PT1H
X-Robots-Tag:noindex
X-PUBLISHED-TTL:PT1H
BEGIN:VTIMEZONE
TZID:America/Bogota
BEGIN:STANDARD
TZOFFSETFROM:-0500
TZOFFSETTO:-0500
TZNAME:-05
DTSTART:20250101T000000
END:STANDARD
END:VTIMEZONE
BEGIN:VEVENT
DTSTART;TZID=America/Bogota:20250506T170000
DTEND;TZID=America/Bogota:20250506T170000
DTSTAMP:20260423T040907
CREATED:20250423T193224Z
LAST-MODIFIED:20250514T171330Z
UID:49902-1746550800-1746550800@eneldelia.gov.co
SUMMARY:Conversatorio - Pedro Aznar con Lucio Feuillet sobre 50 años de música
DESCRIPTION:Inscripción\n\n\n\n\nEl Artista argentino Pedro Aznar conversará con el cantautor colombiano Lucio Feuillet sobre 50 años de música\, sus influencias\, la transformación a lo largo de 5 décadas. \n\n\n\nLucio Feuillet es un cancionista y productor musical nariñense con una fuerte inspiración en la sensibilidad andina del sur colombiano que se extiende a un diálogo de diferentes aires musicales desde la simpleza acústica del cantautor hasta la potencia de una murga carnavalera. Ha publicado cuatro producciones musicales – Indicio 2014\, Provinciano 2017\,  Bailando Bailando 2021 y Mínimo Infinito 2023. \n\n\n\nNoticiaPedro Aznar celebra 50 años de trayectoria\, con dos conciertos en Colombia \n\n\n\n\n\nINFORMACIÓN:\n\n\n\nFecha: 6 de mayo de 2025 \n\n\n\nHoras: 5:00 p.m.  \n\n\n\nLugar: Sala Delia Zapata \n\n\n\nBogotá – Colombia \n\n\n\nCentro Nacional de las ArtesDelia Zapata Olivella \n\n\n\nMinisterio de las Culturas\, las Artes y los Saberes
URL:https://eneldelia.gov.co/event/conversatorio-pedro-aznar-con-lucio-feuillet-sobre-50-anos-de-musica/
CATEGORIES:Comunidad,CONVERSATORIO,Entrada Libre
ATTACH;FMTTYPE=image/jpeg:/wp-content/uploads/2025/05/CONVERSATORIO-PEDRO-AZNAR-Post-Web-home-1080x1350-1.jpeg
END:VEVENT
END:VCALENDAR