BEGIN:VCALENDAR
VERSION:2.0
PRODID:-//Centro Nacional de las Artes Delia Zapata Olivella - ECPv5.12.4//NONSGML v1.0//EN
CALSCALE:GREGORIAN
METHOD:PUBLISH
X-WR-CALNAME:Centro Nacional de las Artes Delia Zapata Olivella
X-ORIGINAL-URL:https://eneldelia.gov.co
X-WR-CALDESC:Events for Centro Nacional de las Artes Delia Zapata Olivella
REFRESH-INTERVAL;VALUE=DURATION:PT1H
X-Robots-Tag:noindex
X-PUBLISHED-TTL:PT1H
BEGIN:VTIMEZONE
TZID:America/Bogota
BEGIN:STANDARD
TZOFFSETFROM:-0500
TZOFFSETTO:-0500
TZNAME:-05
DTSTART:20250101T000000
END:STANDARD
END:VTIMEZONE
BEGIN:VEVENT
DTSTART;TZID=America/Bogota:20250627T120000
DTEND;TZID=America/Bogota:20250629T120000
DTSTAMP:20260420T053313
CREATED:20250609T201026Z
LAST-MODIFIED:20250621T141207Z
UID:51509-1751025600-1751198400@eneldelia.gov.co
SUMMARY:Cuerpxs que habitan: arte\, orgullo y resistencia en el CNA
DESCRIPTION:Tuboleta\n\n\n\n\nDel viernes 27 al domingo 29 de junio de 2025\, el Centro Nacional de las Artes se convierte en un epicentro de memoria y expresión con la programación Cuerpxs que habitan\, una apuesta artística y pedagógica que conmemora el Día Internacional del Orgullo. Durante tres días\, a través de danza\, música\, cine y espacios de formación se honran las múltiples formas de ser\, habitar y resistir desde los cuerpos diversos y sus narrativas. \n\n\n\nCuerpxs que habitan es mucho más que una programación especial: es una afirmación política\, sensible y colectiva de la potencia creativa de los cuerpos disidentes. Con propuestas escénicas de alto nivel y conciertos con artistas trans\, queer y feministas\, este espacio pone en el centro del escenario propuestas con sentires profundos y visiones diversas del mundo. \n\n\n\nNoticiaCuerpxs que habitan: arte\, orgullo y resistencia en el Centro Nacional de las Artes \n\n\n\n\n\nINFORMACIÓN:\n\n\n\nFechas:  del 27 al 29 de junio 2025 \n\n\n\nCentro Nacional de las Artes Delia Zapata Olivella. \n\n\n\nBogotá\, Colombia. \n\n\n\nMinisterio de las Culturas\, las Artes y los Saberes
URL:https://eneldelia.gov.co/event/cuerpxs-que-habitan-arte-orgullo-y-resistencia-en-el-cna/
CATEGORIES:Encuentro
ATTACH;FMTTYPE=image/jpeg:/wp-content/uploads/2025/06/portada-Post-Web-home-1080x1350-1.jpeg
END:VEVENT
END:VCALENDAR