BEGIN:VCALENDAR
VERSION:2.0
PRODID:-//Centro Nacional de las Artes Delia Zapata Olivella - ECPv5.12.4//NONSGML v1.0//EN
CALSCALE:GREGORIAN
METHOD:PUBLISH
X-WR-CALNAME:Centro Nacional de las Artes Delia Zapata Olivella
X-ORIGINAL-URL:https://eneldelia.gov.co
X-WR-CALDESC:Events for Centro Nacional de las Artes Delia Zapata Olivella
REFRESH-INTERVAL;VALUE=DURATION:PT1H
X-Robots-Tag:noindex
X-PUBLISHED-TTL:PT1H
BEGIN:VTIMEZONE
TZID:America/Bogota
BEGIN:STANDARD
TZOFFSETFROM:-0500
TZOFFSETTO:-0500
TZNAME:-05
DTSTART:20240101T000000
END:STANDARD
END:VTIMEZONE
BEGIN:VEVENT
DTSTART;TZID=America/Bogota:20240921T140000
DTEND;TZID=America/Bogota:20240921T140000
DTSTAMP:20260421T125711
CREATED:20240911T123353Z
LAST-MODIFIED:20240924T041559Z
UID:43157-1726927200-1726927200@eneldelia.gov.co
SUMMARY:Talleres - La Cruzada
DESCRIPTION:Charla ilustradaGéneros de la música popular cubanaHistoria y proyecciones 21 de septiembre de 20245:00 p.m.Sala Mallarino Dirigido a: Público general TalleristaNeris González Bello (Cuba)Musicóloga\, pedagoga y gestora cultural.Entrada libre con inscripción previa \n\n\n\nCuba\, considerada la Isla de la música\, es un país altamente productor de géneros y estilos musicales. El son\, la rumba\, el mambo\, el changüí o la timba son solo algunas de las principales expresiones que han irradiado con fuerza y han generado diálogos interculturales añejos y diversos entre disímiles regiones del Caribe. A la sazón\, han sido asumidas por las actuales generaciones de artistas en la Isla propiciando narrativas que han dado lugar a una nueva música cubana. \n\n\n\nNeris González Bello: Musicóloga\, pedagoga y gestora cultural. \n\n\n\nMáster en Artes con Mención en Música e Investigadora Agregada de la Academia de Ciencias de Cuba. Presidenta de la Sección de Musicología de la Unión de Escritores y Artistas de Cuba. Fundadora y presidenta del Coloquio Internacional de Jazz del Festival Internacional Jazz Plaza de La Habana\, con experiencia en el ámbito de la producción y los medios de difusión. Co-fundadora y directora de La Casa Producciones. Manager de La Cruzada y de Los Hermanos Abreu.   \n\n\n\n\n\n\n\n\n\n\n\nTallerImprovisación vocal: métodos y recursos  21 de septiembre de 20242:00 p.m.   Sala Mallarino TalleristaWenddys Hernández (Cuba)Cantante\, saxofonista y clarinetista. Dirigido a: Cantantes profesionales o en formación*Cupo máximo: 10 personas Entrada libre con inscripción previa \n\n\n\n*No es necesario tener conocimientos previos de música cubana. \n\n\n\nDirectora adjunta de la Jazz Band del Conservatorio Provincial de Música Amadeo Roldán. Profesora de Práctica de Conjunto. Directora de la agrupación musical So feel me. Cantante y saxofonista de La Cruzada. Ha colaborado con artistas internacionales como Maurice Jacox (USA)\, Fabio Lepore (Italia) y Ray Lema (Angola).  Colabora con diferentes bandas de la Nueva Música Cubana. Como solista ha sido acompañada por la Banda Nacional de Conciertos y el Coro Vocal Leo.  \n\n\n\nTaller enfocado en ofrecer herramientas para la improvisación vocal\, así como fundamentaciones y ejercicios prácticos que colocan al jazz como base para el desarrollo de otros géneros.  Realización de ejemplos prácticos para su uso de la improvisación vocal en la música cubana a partir de recursos útiles para el enriquecimiento y complementación de un sello identitario en el canto.   \n\n\n\n\n\n\n\n\n\n\n\nTallerMontaje de ensamble de percusión para aprendizaje y ejecución de ritmos de la música popular cubana. 21 de septiembre2:00 p.m.   Foyer del Teatro Colón TalleristaFabio Manuel Abreu González (Cuba)Estudiante de último año de Nivel Medio de percusión del Conservatorio Provincial de Música Amadeo Roldán.Dirigido a: Percusionistas profesionales o en formación con intereses en la música cubana Cupo máximo: 10 personas Entrada libre con inscripción previa \n\n\n\nAcercamiento teórico y práctico a los géneros más populares de la música cubana\, como el son\, la rumba\, el mambo\, el songo\, el chachachá; así como a otros menos conocidos que dieron paso o derivan de éstos. Su aplicación práctica y evolución en la música cubana contemporánea.  \n\n\n\nRequisitos: Cada participante deberá traer su set de percusión: idealmente 4 tumbadoras\, 1 drums\, claves\, bongó\, timbal con campanas\, güiro y maracas.  \n\n\n\nFabio Manuel Abreu González (Cuba) \n\n\n\nEstudiante de último año de Nivel Medio de percusión del Conservatorio Provincial de Música Amadeo Roldán. Es uno de los más talentosos exponentes de la actual generación de jóvenes músicos cubanos. Ganador del 1er Premio del Concurso Provincial de Percusión Pataflafla de Nivel Elemental. Lidera junto a su hermano la agrupación de jazz Los Hermanos Abreu\, con la que ha logrado una inserción activa en la escena musical de la Isla. Baterista de la Jazz Band del Conservatorio de Música Amadeo Roldán. Baterista de La Cruzada.    \n\n\n\n\n\n\n\n\n\n\n\nTaller Técnicas para la ejecución e improvisación de los instrumentos de viento en diferentes formatos musicales\, desde solista hasta big band. 21 de septiembre de 20242:00 p.m.   Salón verde Dirigido a: Intérpretes de instrumentos de vientos profesionales o en formación con intereses en la música cubana TalleristaLic. Jorge Sergio Ramírez:  Saxofonista\, pedagogo\, arreglista\, orquestador y director de agrupación. Cupo máximo: 10 personasEntrada libre con inscripción previa \n\n\n\nFundamentación teórica e ilustración práctica de de los diferentes estilos de interpretación de la música popular cubana y el jazz. Herramientas para la creación de mambos a partir de referentes trascendentales de la música en Cuba. Análisis y comparación de diversas formas de armonización y orquestación para big band de jazz; así como formas de improvisación en la música cubana según su estilo.   \n\n\n\nModerador/es – responsables externos del evento  \n\n\n\nTallerista: Lic. Jorge Sergio Ramírez:  Saxofonista\, pedagogo\, arreglista\, orquestador y director de agrupación. Egresado de la Universidad de las Artes. Director de la Jazz Band del Conservatorio Provincial de Música Amadeo Roldán. Ganador del Premio de interpretación de saxo barítono en el Concurso Essencially Ellington\, en Jazz at Lincoln Center. Profesor de saxofón de varias academias de música en La Habana. Director musical de La Cruzada.  \n\n\n\n\n\nINFORMACIÓN:\n\n\n\nSeptiembre de 2024 \n\n\n\nFestival NODO – Arte en Movimiento \n\n\n\nTalleres/Charla \n\n\n\n\nInscripción Previa\n\n\n\n\nCentro Nacional de las Artes Delia Zapata Olivella
URL:https://eneldelia.gov.co/event/danza-en-la-ciudad-nodo-talleres-la-cruzada/
CATEGORIES:Comunidad,Entrada Libre,Taller
ATTACH;FMTTYPE=image/jpeg:/wp-content/uploads/2024/09/talleres-la-cruzada.jpg
END:VEVENT
END:VCALENDAR