BEGIN:VCALENDAR
VERSION:2.0
PRODID:-//Centro Nacional de las Artes Delia Zapata Olivella - ECPv5.12.4//NONSGML v1.0//EN
CALSCALE:GREGORIAN
METHOD:PUBLISH
X-WR-CALNAME:Centro Nacional de las Artes Delia Zapata Olivella
X-ORIGINAL-URL:https://eneldelia.gov.co
X-WR-CALDESC:Events for Centro Nacional de las Artes Delia Zapata Olivella
REFRESH-INTERVAL;VALUE=DURATION:PT1H
X-Robots-Tag:noindex
X-PUBLISHED-TTL:PT1H
BEGIN:VTIMEZONE
TZID:America/Bogota
BEGIN:STANDARD
TZOFFSETFROM:-0500
TZOFFSETTO:-0500
TZNAME:-05
DTSTART:20240101T000000
END:STANDARD
END:VTIMEZONE
BEGIN:VEVENT
DTSTART;TZID=America/Bogota:20240524T160000
DTEND;TZID=America/Bogota:20240524T160000
DTSTAMP:20260421T155903
CREATED:20240521T025047Z
LAST-MODIFIED:20240521T025751Z
UID:37794-1716566400-1716566400@eneldelia.gov.co
SUMMARY:De la semilla al emprendimiento y a la empresa
DESCRIPTION:Charla:  De la semilla al emprendimiento y a la empresa  \n\n\n\n\nDirigen los emprendimientos:   \n\n\n\nBantura Viche\, Ikenga Madera y Late Chocó.  \n\n\n\nModera: Gisella Pérez\, Subdirectora de asuntos para comunidades negras afrocolombianas\, raizales y palenqueras – Colombia.  \n\n\n\nDescripción: Con esta charla buscamos socializar\, generar un intercambio de experiencias e inspirar a emprendimientos étnicos de los pueblos negros\, afrocolombianos\, raizales y palenqueros desde los recorridos\, crecimiento y retos de emprendimientos que hoy en día son referentes exitosos de empresa.  \n\n\n\n\n\n\n\n\n\nINFORMACIÓN:\n\n\n\nFecha: 24 de mayo – 4:00 p.m. \n\n\n\nEntrada libre \n\n\n\nPlazoletaCalle 11 # 5 – 60 Bogotá\, Colombia.Centro Nacional de las Artes Delia Zapata Olivella.
URL:https://eneldelia.gov.co/event/de-la-semilla-al-emprendimiento-y-a-la-empresa/
CATEGORIES:CHARLA,Comunidad,Encuentro
ATTACH;FMTTYPE=image/jpeg:/wp-content/uploads/2024/05/Charlas-destacado_Post-5.jpg
END:VEVENT
END:VCALENDAR