BEGIN:VCALENDAR
VERSION:2.0
PRODID:-//Centro Nacional de las Artes Delia Zapata Olivella - ECPv5.12.4//NONSGML v1.0//EN
CALSCALE:GREGORIAN
METHOD:PUBLISH
X-WR-CALNAME:Centro Nacional de las Artes Delia Zapata Olivella
X-ORIGINAL-URL:https://eneldelia.gov.co
X-WR-CALDESC:Events for Centro Nacional de las Artes Delia Zapata Olivella
REFRESH-INTERVAL;VALUE=DURATION:PT1H
X-Robots-Tag:noindex
X-PUBLISHED-TTL:PT1H
BEGIN:VTIMEZONE
TZID:America/Bogota
BEGIN:STANDARD
TZOFFSETFROM:-0500
TZOFFSETTO:-0500
TZNAME:-05
DTSTART:20250101T000000
END:STANDARD
END:VTIMEZONE
BEGIN:VEVENT
DTSTART;TZID=America/Bogota:20251219T193000
DTEND;TZID=America/Bogota:20251219T193000
DTSTAMP:20260421T074527
CREATED:20251212T234319Z
LAST-MODIFIED:20251216T211215Z
UID:60115-1766172600-1766172600@eneldelia.gov.co
SUMMARY:Diciembre Biocultural - El Palenque de Delia
DESCRIPTION:Inscripción\n\n\n\n\n‘Natividad negra: retablo de la costa pacífica de Colombia – Recopilación de la tradición oral’ condensa la forma como las comunidades del Pacífico colombiano celebran y narran\, con danza\, teatro y música\, la historia bíblica del advenimiento y nacimiento del Niño Dios. \n\n\n\nEsta obra artística fue creada a partir de la investigación realizada por Delia Zapata Olivella y Edelmira Massa Zapata en pueblos del Pacífico en los años sesenta\, constituyéndose en una de las obras insignes de la Fundación. Ha sido presentada durante 45 años en escenarios como el Teatro Colón de Bogotá\, el Teatro Heredia de Cartagena\, la Red de Bibliotecas Públicas de Bogotá\, entre otros. \n\n\n\nEl retablo de La natividad negra se divide en tres partes: la parte religiosa o sacra\, los arrullos al Niño Dios y la parte de las danzas profanas. \n\n\n\nMás programación en: Diciembre Biocultural 2025 \n\n\n\n\n\nINFORMACIÓN:\n\n\n\nFecha: 19 de diciembre de 2025 \n\n\n\nHora: 7:30 p.m. \n\n\n\nLugar: Sala Delia Zapata \n\n\n\nCentro Nacional de las ArtesDelia Zapata Olivella \n\n\n\nMinisterio de las Culturas\, las Artes y los Saberes
URL:https://eneldelia.gov.co/event/diciembre-biocultural-el-palenque-de-delia/
CATEGORIES:Inscripción Previa
ATTACH;FMTTYPE=image/jpeg:/wp-content/uploads/2025/12/CNA_DBIO_NATIVIDAD_POST.jpeg
END:VEVENT
END:VCALENDAR