BEGIN:VCALENDAR
VERSION:2.0
PRODID:-//Centro Nacional de las Artes Delia Zapata Olivella - ECPv5.12.4//NONSGML v1.0//EN
CALSCALE:GREGORIAN
METHOD:PUBLISH
X-WR-CALNAME:Centro Nacional de las Artes Delia Zapata Olivella
X-ORIGINAL-URL:https://eneldelia.gov.co
X-WR-CALDESC:Events for Centro Nacional de las Artes Delia Zapata Olivella
REFRESH-INTERVAL;VALUE=DURATION:PT1H
X-Robots-Tag:noindex
X-PUBLISHED-TTL:PT1H
BEGIN:VTIMEZONE
TZID:America/Bogota
BEGIN:STANDARD
TZOFFSETFROM:-0500
TZOFFSETTO:-0500
TZNAME:-05
DTSTART:20250101T000000
END:STANDARD
END:VTIMEZONE
BEGIN:VEVENT
DTSTART;TZID=America/Bogota:20250830T100000
DTEND;TZID=America/Bogota:20250830T120000
DTSTAMP:20260424T075853
CREATED:20250807T221845Z
LAST-MODIFIED:20250825T212839Z
UID:54527-1756548000-1756555200@eneldelia.gov.co
SUMMARY:EcoLab - Sinergias vivas
DESCRIPTION:Formulario de Inscripción\n\n\n\n\nTe invitamos a un proceso colectivo de apropiación\, creación e investigación comunitaria en la huerta urbana del Centro Nacional de las Artes\, articulado con expresiones culturales y artísticas. \n\n\n\nEn agosto tendremos dos encuentros para seguir explorando y creando juntxs\, donde nos encontraremos para sembrar\, intercambiar saberes y reconocer la huerta como un espacio vivo de cuidado y aprendizaje colectivo\, a la vez que estaremos conectados desde el arte y la cultura para fortalecer la memoria y el trabajo comunitario. \n\n\n\n¡Súmate a este laboratorio de exploración comunitaria y haz parte de la siembra\, el arte y la vida compartida! \n\n\n\n*Para más información:  mediacioneneldelia@mincultura.gov.co \n\n\n\n\n\nINFORMACIÓN:\n\n\n\nFechas: 23 y 30 de agosto de 2025 \n\n\n\nHora: 10:00 a.m. a 12:00 m  \n\n\n\nLugar: Terraza / Cuarto piso \n\n\n\nCentro Nacional de las Artes Delia Zapata Olivella \n\n\n\nEcoLAB \n\n\n\nMinisterio de las Culturas\, las Artes y los Saberes
URL:https://eneldelia.gov.co/event/ecolab-sinergias-vivas/
CATEGORIES:Comunidad,Inscripción Previa,LAB Piso 8,Taller
ATTACH;FMTTYPE=image/jpeg:/wp-content/uploads/2025/08/ecolab-agosto-Post-Web-home-1080x1350-2.jpg
END:VEVENT
END:VCALENDAR