BEGIN:VCALENDAR
VERSION:2.0
PRODID:-//Centro Nacional de las Artes Delia Zapata Olivella - ECPv5.12.4//NONSGML v1.0//EN
CALSCALE:GREGORIAN
METHOD:PUBLISH
X-WR-CALNAME:Centro Nacional de las Artes Delia Zapata Olivella
X-ORIGINAL-URL:https://eneldelia.gov.co
X-WR-CALDESC:Events for Centro Nacional de las Artes Delia Zapata Olivella
REFRESH-INTERVAL;VALUE=DURATION:PT1H
X-Robots-Tag:noindex
X-PUBLISHED-TTL:PT1H
BEGIN:VTIMEZONE
TZID:America/Bogota
BEGIN:STANDARD
TZOFFSETFROM:-0500
TZOFFSETTO:-0500
TZNAME:-05
DTSTART:20260101T000000
END:STANDARD
END:VTIMEZONE
BEGIN:VEVENT
DTSTART;TZID=America/Bogota:20260221T110000
DTEND;TZID=America/Bogota:20260221T200000
DTSTAMP:20260423T222353
CREATED:20260211T160215Z
LAST-MODIFIED:20260220T182712Z
UID:63378-1771671600-1771704000@eneldelia.gov.co
SUMMARY:Encuentro Campesino - La Placita del Aula Viva
DESCRIPTION:Entrada Libre\n\n\n\n\nPor primera vez\, los mercados del campo llegan al Teatro Colón  y se instala dentro en el lobby del teatro con La Placita del Aula Viva\, una iniciativa de la Universidad Nacional que crea un espacio comunitario para compartir productos\, saberes y reflexiones sobre la alimentación como derecho y la economía del cuidado. \n\n\n\nLa Placita es un espacio comunitario en el que campesinos de diversas regiones del país nos comparten sus productos\, alimentos y saberes. Es un lugar que representa la solidaridad y la economía del cuidado\, donde el intercambio\, la confianza y la cooperación se expresan para construir comunidad. \n\n\n\nDesde este punto de encuentro\, se impulsa la reflexión sobre la producción de los alimentos\, alimentación como derecho humano y sobre las formas de convivencia que fortalezcan la vida colectiva. Esta es una iniciativa de la Universidad Nacional. En esta ocasión\, por primera vez los mercados del campo estarán abiertos en el lobby del Teatro Colón con esta iniciativa \n\n\n\nEncuentroUn espacio que reconoce a las culturas campesinas como portadoras de saberes fundamentales para la vida\, la memoria y la construcción de paz. \n\n\n\n\n\nINFORMACIÓN:\n\n\n\nFecha: 21 de febrero de 2026 \n\n\n\nHora: 11:00 a.m. a 8:00 p.m. \n\n\n \n\n\n\nBogotá\, Colombia. \n\n\n\nCentro Nacional de las Artes Delia Zapata Olivella. \n\n\n\nMinisterio de las Culturas\, las Artes y los Saberes
URL:https://eneldelia.gov.co/event/encuentro-campesino-la-placita-del-aula-viva/
CATEGORIES:Encuentro Campesino - 2026,Entrada Libre
ATTACH;FMTTYPE=image/jpeg:/wp-content/uploads/2026/02/2.jpg
END:VEVENT
END:VCALENDAR