BEGIN:VCALENDAR
VERSION:2.0
PRODID:-//Centro Nacional de las Artes Delia Zapata Olivella - ECPv5.12.4//NONSGML v1.0//EN
CALSCALE:GREGORIAN
METHOD:PUBLISH
X-WR-CALNAME:Centro Nacional de las Artes Delia Zapata Olivella
X-ORIGINAL-URL:https://eneldelia.gov.co
X-WR-CALDESC:Events for Centro Nacional de las Artes Delia Zapata Olivella
REFRESH-INTERVAL;VALUE=DURATION:PT1H
X-Robots-Tag:noindex
X-PUBLISHED-TTL:PT1H
BEGIN:VTIMEZONE
TZID:America/Bogota
BEGIN:STANDARD
TZOFFSETFROM:-0500
TZOFFSETTO:-0500
TZNAME:-05
DTSTART:20260101T000000
END:STANDARD
END:VTIMEZONE
BEGIN:VEVENT
DTSTART;TZID=America/Bogota:20260221T190000
DTEND;TZID=America/Bogota:20260221T190000
DTSTAMP:20260423T222032
CREATED:20260213T210028Z
LAST-MODIFIED:20260217T164817Z
UID:62884-1771700400-1771700400@eneldelia.gov.co
SUMMARY:Encuentro Campesino - Liz Quiroga
DESCRIPTION:Inscripción\n\n\n\n\n\n\n\n\nLiz Quiroga es narradora oral y abogada\, con maestría en Retórica y Oratoria\, y dirige actualmente el grupo institucional de narración oral de la Pontificia Universidad Javeriana\, donde ha impulsado procesos de creación escénica y de fomento de la lectura y la cuentería como herramientas de pedagogía y memoria colectiva.  \n\n\n\nEn Chicha\, Liz parte de las historias que le contaban sus abuelos para tejer un viaje por el universo mágico del campo colombiano: ese territorio donde la patasola\, la llorona\, los monjes sin cabeza\, las mulas fantasmas y otros personajes del imaginario popular conviven con la vida cotidiana\, entre sustos\, risas y parranda.  \n\n\n\nSu presentación funciona como un homenaje a la oralidad ancestral y\, al mismo tiempo\, como una actualización del realismo mágico en clave contemporánea: las historias de antes no desaparecen con la modernidad\, sino que se transforman y encuentran nuevas formas de ser contadas. \n\n\n\nEncuentroUn espacio que reconoce a las culturas campesinas como portadoras de saberes fundamentales para la vida\, la memoria y la construcción de paz. \n\n\n\n\n\n\n\n\n\nInformación:\n\n\n\nFecha: 21 de febrero de 2026 \n\n\n\nHora:  7:00 p.m. \n\n\n\nLugar: Teatro Colón \n\n\n\nBogotá\, Colombia. \n\n\n \n\n\n\nEncuentro Campesino 2026 \n\n\n\nCentro Nacional de las Artes Delia Zapata Olivella  \n\n\n\nMinisterio de las Culturas\, las Artes y los Saberes
URL:https://eneldelia.gov.co/event/encuentro-campesino-liz-quiroga/
CATEGORIES:Encuentro Campesino - 2026,Inscripción Previa
ATTACH;FMTTYPE=image/jpeg:/wp-content/uploads/2026/02/Post-Web-Home-Liz-Quiroga-1080-px-x-1350-scaled.jpg
END:VEVENT
END:VCALENDAR