BEGIN:VCALENDAR
VERSION:2.0
PRODID:-//Centro Nacional de las Artes Delia Zapata Olivella - ECPv5.12.4//NONSGML v1.0//EN
CALSCALE:GREGORIAN
METHOD:PUBLISH
X-WR-CALNAME:Centro Nacional de las Artes Delia Zapata Olivella
X-ORIGINAL-URL:https://eneldelia.gov.co
X-WR-CALDESC:Events for Centro Nacional de las Artes Delia Zapata Olivella
REFRESH-INTERVAL;VALUE=DURATION:PT1H
X-Robots-Tag:noindex
X-PUBLISHED-TTL:PT1H
BEGIN:VTIMEZONE
TZID:America/Bogota
BEGIN:STANDARD
TZOFFSETFROM:-0500
TZOFFSETTO:-0500
TZNAME:-05
DTSTART:20260101T000000
END:STANDARD
END:VTIMEZONE
BEGIN:VEVENT
DTSTART;TZID=America/Bogota:20260221T170000
DTEND;TZID=America/Bogota:20260221T170000
DTSTAMP:20260423T222119
CREATED:20260213T144017Z
LAST-MODIFIED:20260217T164747Z
UID:62852-1771693200-1771693200@eneldelia.gov.co
SUMMARY:Encuentro Campesino – Los Hermanos Amado
DESCRIPTION:Entrada Libre\n\n\n\n\n\n\n\n\nEn escena\, el tiempo se pliega y dos mundos dialogan: el de Pedro Nel Amado\, que aún labra la tierra\, camina las plazas y canta con la voz honda del campo; y el de su hijo Juan Ramón\, heredero de raíz campesina que\, desde otros géneros\, trae el pulso del presente y renueva la respiración de Los Hermanos Amado. Cinco músicos sostienen este viaje sonoro donde el tiple\, la guitarra\, el requinto y la guacharaca no solo acompañan\, sino que narran. Es un contraste de épocas y\, a la vez\, un puente entre lo vivido y lo que viene: la tradición no se rompe\, se transforma. \n\n\n\nLa historia comenzó en 1975\, cuando cuatro hermanos —Pedro Nel\, Senén\, José Gabriel y Salomón Amado— hicieron de la familia un canto sembrado en plazas y caminos del campo boyacense. Con el paso del tiempo algunos tomaron otros rumbos\, pero la raíz permanece firme en la voz de Pedro Nel\, que hoy camina junto a Juan Ramón. Padre e hijo no se encuentran como maestro y aprendiz\, sino como dos tiempos del mismo canto: uno que recuerda y otro que continúa. Así\, entre memoria y porvenir\, el legado sigue latiendo como semilla viva. \n\n\n\nEncuentroUn espacio que reconoce a las culturas campesinas como portadoras de saberes fundamentales para la vida\, la memoria y la construcción de paz. \n\n\n\n\n\nINFORMACIÓN:\n\n\n\nFecha: 21 de febrero de 2026 \n\n\n\nHora:  5:00 p.m. \n\n\n\nLugar: Plazoleta CNA \n\n\n\nEncuentro Campesino 2026 \n\n\n\nBogotá\, Colombia. \n\n\n \n\n\n\nCentro Nacional de las Artes Delia Zapata Olivella. \n\n\n\nMinisterio de las Culturas\, las Artes y los Saberes
URL:https://eneldelia.gov.co/event/encuentro-campesino-los-hermanos-amado/
CATEGORIES:Encuentro Campesino - 2026,Entrada Libre
ATTACH;FMTTYPE=image/jpeg:/wp-content/uploads/2026/02/04_Post-Web-Home-Hermanos-Amado-1080-px-x-1350-scaled.jpg
END:VEVENT
END:VCALENDAR