BEGIN:VCALENDAR
VERSION:2.0
PRODID:-//Centro Nacional de las Artes Delia Zapata Olivella - ECPv5.12.4//NONSGML v1.0//EN
CALSCALE:GREGORIAN
METHOD:PUBLISH
X-WR-CALNAME:Centro Nacional de las Artes Delia Zapata Olivella
X-ORIGINAL-URL:https://eneldelia.gov.co
X-WR-CALDESC:Events for Centro Nacional de las Artes Delia Zapata Olivella
REFRESH-INTERVAL;VALUE=DURATION:PT1H
X-Robots-Tag:noindex
X-PUBLISHED-TTL:PT1H
BEGIN:VTIMEZONE
TZID:America/Bogota
BEGIN:STANDARD
TZOFFSETFROM:-0500
TZOFFSETTO:-0500
TZNAME:-05
DTSTART:20250101T000000
END:STANDARD
END:VTIMEZONE
BEGIN:VEVENT
DTSTART;TZID=America/Bogota:20250503T160000
DTEND;TZID=America/Bogota:20250503T210000
DTSTAMP:20260419T074144
CREATED:20250421T163616Z
LAST-MODIFIED:20250502T172410Z
UID:49842-1746288000-1746306000@eneldelia.gov.co
SUMMARY:Festival Internacional de la Imagen en el CNA
DESCRIPTION:Inscripción\n\n\n\n\nEl sábado 3 de mayo\, el Festival Internacional de la Imagen llega al Centro Nacional de las Artes con una programación imperdible. La jornada comienza con la conversación Dibujar con código\, entre Alba G. Corral (España) y Felipe César Londoño\, seguida por un diálogo sobre interfaces\, arte\, tecnología y percepción expandida entre Alexandre Saunier (Francia/Bélgica) y Chris Salter (Estados Unidos/Suiza).  \n\n\n\nLuego\, el público podrá disfrutar de la función La Vorágine más allá (con boletería)\, y para cerrar el día\, la instalación en vivo SNN #2: Light/Space/Prop after Moholy-Nagy\, creada por Alexandre Saunier y Chris Salter. Esta pieza de 20 minutos combina luz y sonido a través de un conjunto de cinco luces móviles modificadas con lentes lenticulares y quince redes neuronales artificiales\, que simulan la actividad del cerebro humano. Las neuronas artificiales controlan en tiempo real la velocidad\, el ritmo y las secuencias de las luces\, generando una experiencia inmersiva única.  \n\n\n\n\n\n\n\n\n\n\n\n\n\n\n\nINFORMACIÓN:\n\n\n\nFecha: 3 de mayo  de 2025 \n\n\n\nHoras: 4:00 p.m. a 9: 00 p.m. \n\n\n\nCentro Nacional de las ArtesDelia Zapata Olivella \n\n\n\nBogotá – Colombia \n\n\n\nMinisterio de las Culturas\, las Artes y los Saberes
URL:https://eneldelia.gov.co/event/festival-internacional-de-la-imagen-en-el-cna/
CATEGORIES:Comunidad,CONVERSATORIO,Entrada Libre
ATTACH;FMTTYPE=image/jpeg:/wp-content/uploads/2025/05/Festival-Imagen.jpeg
END:VEVENT
END:VCALENDAR