BEGIN:VCALENDAR
VERSION:2.0
PRODID:-//Centro Nacional de las Artes Delia Zapata Olivella - ECPv5.12.4//NONSGML v1.0//EN
CALSCALE:GREGORIAN
METHOD:PUBLISH
X-WR-CALNAME:Centro Nacional de las Artes Delia Zapata Olivella
X-ORIGINAL-URL:https://eneldelia.gov.co
X-WR-CALDESC:Events for Centro Nacional de las Artes Delia Zapata Olivella
REFRESH-INTERVAL;VALUE=DURATION:PT1H
X-Robots-Tag:noindex
X-PUBLISHED-TTL:PT1H
BEGIN:VTIMEZONE
TZID:America/Bogota
BEGIN:STANDARD
TZOFFSETFROM:-0500
TZOFFSETTO:-0500
TZNAME:-05
DTSTART:20240101T000000
END:STANDARD
END:VTIMEZONE
BEGIN:VEVENT
DTSTART;TZID=America/Bogota:20240526T150000
DTEND;TZID=America/Bogota:20240526T150000
DTSTAMP:20260421T193952
CREATED:20240519T055600Z
LAST-MODIFIED:20240523T225050Z
UID:37341-1716735600-1716735600@eneldelia.gov.co
SUMMARY:La Otredad - Pacific Dance
DESCRIPTION:Delia es Afro\n\n\n\n\n\n\n\n\n\n\n\n\n\n\nCon una apuesta artística que expone las formas de racismo presentes en Colombia\, “La Otredad”\, de la agrupación Pacific Dance\, apunta a la creación de nuevas narrativas frente a la representación de lo negro y de toda su carga simbólica\, como una forma de reconstrucción y reparación del tejido social.  \n\n\n\nA través de la danza\, como una forma de ser y existir de los pueblos afro\, que ha permitido externar dolores\, narrar vivencias\, preservar saberes y trascender historias y legados\, quince jóvenes de Tumaco encarnan la lucha y resistencia contra racismo estructural\, el esencialismo\, el endorracismo o el colorismo. Con música de Inés Granja\, Marlon Cuero\, Victoria Santa Cruz \, Jorge Luis Dajome\, Plu Con Pla\, entre otros\,  se relacionan con las formas de sanación de los pueblos negros repartidos en la diáspora abrir caminos para nuestro presente y futuro por medio del cuerpo.    \n\n\n\n \n\n\n\n\n\n\n\n\n\n\n\nPacific Dance es una organización étnica artística y cultural que nació en Tumaco en el año 2012\, con el objetivo de brindar espacios con sentido a niños\, niñas y jóvenes en situación de riesgo y vulnerabilidad por las diversas manifestaciones de violencia. Han hecho del arte una herramienta de transformación y resignificación del territorio\, creando espacios de interacción y cohesión para el desarrollo personal y social. \n\n\n\nEntrada libre. Se requiere inscripción previa *Este enlace estará habilitado hasta completar la ocupación de la sala. \n\n\n\n\n\nINFORMACIÓN:\n\n\n\nFecha: 26 de mayo – 3:00 p.m. \n\n\n\nEntrada libre. Se requiere inscripción previa *Este enlace estará habilitado hasta completar la ocupación de la sala. \n\n\n\nSala Delia ZapataCalle 11 # 5 – 60 Bogotá\, Colombia.Centro Nacional de las Artes Delia Zapata Olivella.
URL:https://eneldelia.gov.co/event/la-otredad-pacific-dance/
CATEGORIES:Encuentro
ATTACH;FMTTYPE=image/png:/wp-content/uploads/2024/05/La-otredad.png
END:VEVENT
END:VCALENDAR