BEGIN:VCALENDAR
VERSION:2.0
PRODID:-//Centro Nacional de las Artes Delia Zapata Olivella - ECPv5.12.4//NONSGML v1.0//EN
CALSCALE:GREGORIAN
METHOD:PUBLISH
X-WR-CALNAME:Centro Nacional de las Artes Delia Zapata Olivella
X-ORIGINAL-URL:https://eneldelia.gov.co
X-WR-CALDESC:Events for Centro Nacional de las Artes Delia Zapata Olivella
REFRESH-INTERVAL;VALUE=DURATION:PT1H
X-Robots-Tag:noindex
X-PUBLISHED-TTL:PT1H
BEGIN:VTIMEZONE
TZID:America/Bogota
BEGIN:STANDARD
TZOFFSETFROM:-0500
TZOFFSETTO:-0500
TZNAME:-05
DTSTART:20260101T000000
END:STANDARD
END:VTIMEZONE
BEGIN:VEVENT
DTSTART;TZID=America/Bogota:20260314T110000
DTEND;TZID=America/Bogota:20260314T110000
DTSTAMP:20260423T131142
CREATED:20260301T220945Z
LAST-MODIFIED:20260311T014655Z
UID:64231-1773486000-1773486000@eneldelia.gov.co
SUMMARY:Los lenguajes de los árboles
DESCRIPTION:Inscripción Previa\n\n\n\n\nBajo la sombra del árbol es una creación multidisciplinar del colectivo Bajo la Sombra del Árbol\, dirigido a la primera infancia\, que celebra la vida\, poesía y memoria de los árboles a través de juegos corporales\, música en vivo\, palabra\, video y objetos.  \n\n\n\nLa obra evoca historias como el baile del viejo Samán\, una niña que porta la semilla de un roble\, el destino de un eucalipto incomprendido y el encuentro de dos yarumos\, todo atravesado por cuatro viajeros que buscan refugio bajo el último árbol de la tierra\, rindiendo tributo a la palma de cera\, arrayanes y a la ceiba barrigona.  \n\n\n\nEste colectivo\, enfocado en el juego\, la creación y la pedagogía infantil desde 2022 —con proyectos como El monstruo de los colores y Los lenguajes de los árboles\, ganadora de la Beca de Creación Multidisciplinar para la Primera Infancia 2024—\, invita a niños y familias a reconectar con estos seres vivos que nos cuidan. \n\n\n\n\n\nINFORMACIÓN:\n\n\n\nFecha: 14 de marzo de 2026 \n\n\n\nHora: 11:00 a.m. \n\n\n\nLugar: Sala Fanny Mikey \n\n\n\nBogotá – Colombia \n\n\n\nFranja Rin Rin \n\n\n\nCentro Nacional de las ArtesDelia Zapata Olivella \n\n\n\nMinisterio de las Culturas\, las Artes y los Saberes
URL:https://eneldelia.gov.co/event/los-lenguajes-de-los-arboles/
CATEGORIES:Inscripción Previa,Rin Rin,Teatro
ATTACH;FMTTYPE=image/jpeg:/wp-content/uploads/2026/03/lenguaje-arboles-feed-4.jpeg
END:VEVENT
END:VCALENDAR