BEGIN:VCALENDAR
VERSION:2.0
PRODID:-//Centro Nacional de las Artes Delia Zapata Olivella - ECPv5.12.4//NONSGML v1.0//EN
CALSCALE:GREGORIAN
METHOD:PUBLISH
X-WR-CALNAME:Centro Nacional de las Artes Delia Zapata Olivella
X-ORIGINAL-URL:https://eneldelia.gov.co
X-WR-CALDESC:Events for Centro Nacional de las Artes Delia Zapata Olivella
REFRESH-INTERVAL;VALUE=DURATION:PT1H
X-Robots-Tag:noindex
X-PUBLISHED-TTL:PT1H
BEGIN:VTIMEZONE
TZID:America/Bogota
BEGIN:STANDARD
TZOFFSETFROM:-0500
TZOFFSETTO:-0500
TZNAME:-05
DTSTART:20240101T000000
END:STANDARD
END:VTIMEZONE
BEGIN:VEVENT
DTSTART;TZID=America/Bogota:20240519T090000
DTEND;TZID=America/Bogota:20240519T160000
DTSTAMP:20260421T185927
CREATED:20240516T145700Z
LAST-MODIFIED:20240516T151134Z
UID:36945-1716109200-1716134400@eneldelia.gov.co
SUMMARY:Mercado campesino - Los Profes de la Carranga
DESCRIPTION:Entrada Libre\n\n\n\n\n\n\n\n\nLos Profes de la Carranga y más de 10 productores locales se toman la Plazoleta del Delia \n\n\n\nEste domingo 19 de mayo\, de 9:00 a.m. a 4:00 p.m.\, más de 10 productores y emprendedores locales ofrecerán los mejores productos de la Bogotá rural\, a quienes se acerquen a la Plazoleta del Delia\, donde a partir de las 2:00 p.m. se presentará la banda boyacense Los Profes de la Carranga\, que a través de su más reciente álbum ‘La Carranbuena’ demostrará porque es una de las agrupaciones que más preserva y promueve las tradiciones culturales de Boyacá. \n\n\n\n\n\nINFORMACIÓN:\n\n\n\nFecha: 19 de mayo de 2024. \n\n\n\nMercado CampesinoHora: 9:00 a.m. a 4:00 p.m. \n\n\n\nMúsica – Los Profes de la CarrangaHora: 2:00 p.m. \n\n\n\nCalle 11 # 5 – 60 Bogotá\, Colombia.Centro Nacional de las Artes Delia Zapata Olivella.
URL:https://eneldelia.gov.co/event/mercado-campesino-los-profes-de-la-carranga/
CATEGORIES:Comunidad,Entrada Libre
ATTACH;FMTTYPE=image/jpeg:/wp-content/uploads/2024/05/Mercados-Campesinos-Mayo_Destacado.jpg
END:VEVENT
END:VCALENDAR