BEGIN:VCALENDAR
VERSION:2.0
PRODID:-//Centro Nacional de las Artes Delia Zapata Olivella - ECPv5.12.4//NONSGML v1.0//EN
CALSCALE:GREGORIAN
METHOD:PUBLISH
X-WR-CALNAME:Centro Nacional de las Artes Delia Zapata Olivella
X-ORIGINAL-URL:https://eneldelia.gov.co
X-WR-CALDESC:Events for Centro Nacional de las Artes Delia Zapata Olivella
REFRESH-INTERVAL;VALUE=DURATION:PT1H
X-Robots-Tag:noindex
X-PUBLISHED-TTL:PT1H
BEGIN:VTIMEZONE
TZID:America/Bogota
BEGIN:STANDARD
TZOFFSETFROM:-0500
TZOFFSETTO:-0500
TZNAME:-05
DTSTART:20260101T000000
END:STANDARD
END:VTIMEZONE
BEGIN:VEVENT
DTSTART;TZID=America/Bogota:20260520T193000
DTEND;TZID=America/Bogota:20260520T193000
DTSTAMP:20260425T060736
CREATED:20260425T043311Z
LAST-MODIFIED:20260425T043314Z
UID:66503-1779305400-1779305400@eneldelia.gov.co
SUMMARY:Nahuel Pennisi
DESCRIPTION:Tuboleta\n\n\n\n\nEl cantautor argentino Nahuel Pennisi\, una de las voces más representativas de la música popular latinoamericana\, llega a Colombia tras un año de hitos que consolidaron su proyección internacional: presentaciones a sala llena en la emblemática calle Corrientes de Buenos Aires y su consagración en los Premios Gardel 2025 como Mejor Álbum Artista Pop por Momentos. Con una trayectoria marcada por su virtuosismo en la guitarra y una sensibilidad interpretativa única\, Pennisi ofrecerá dos conciertos en formato íntimo en Cajicá y Bogotá\, donde recorrerá canciones que ya hacen parte del cancionero popular\, fusionando la raíz del folclore con la frescura del pop. \n\n\n\nSu vínculo con Colombia ha sido constante: desde su colaboración con Fonseca en “Porque nadie sabe” —nominada a los Latin Grammy— hasta sus recordadas presentaciones en escenarios como el Teatro Colsubsidio. Esta nueva visita adquiere un matiz especial\, pues el artista se encuentra grabando un disco tributo a Mercedes Sosa\, figura esencial de la música latinoamericana. Con reconocimientos como dos Gaviotas de Plata en el Festival de Viña del Mar y colaboraciones con artistas como Ricky Martin y Luciano Pereyra\, Pennisi llega para reafirmar su lugar como una de las voces más trascendentes de la escena actual. \n\n\n\n\n\nINFORMACIÓN:\n\n\n\nFecha: 20 de mayo de 2026 \n\n\n\nHora: 7:30 p.m. \n\n\n\nLugar: Sala Delia Zapata \n\n\n\nBogotá – Colombia \n\n\n\nCentro Nacional de las ArtesDelia Zapata Olivella \n\n\n\nMinisterio de las Culturas\, las Artes y los Saberes
URL:https://eneldelia.gov.co/event/nahuel-pennisi/
CATEGORIES:Entrada con Boletería
ATTACH;FMTTYPE=image/jpeg:/wp-content/uploads/2026/04/NAHUEL-FEED-en-tamano-grande.jpeg
END:VEVENT
END:VCALENDAR