BEGIN:VCALENDAR
VERSION:2.0
PRODID:-//Centro Nacional de las Artes Delia Zapata Olivella - ECPv5.12.4//NONSGML v1.0//EN
CALSCALE:GREGORIAN
METHOD:PUBLISH
X-WR-CALNAME:Centro Nacional de las Artes Delia Zapata Olivella
X-ORIGINAL-URL:https://eneldelia.gov.co
X-WR-CALDESC:Events for Centro Nacional de las Artes Delia Zapata Olivella
REFRESH-INTERVAL;VALUE=DURATION:PT1H
X-Robots-Tag:noindex
X-PUBLISHED-TTL:PT1H
BEGIN:VTIMEZONE
TZID:America/Bogota
BEGIN:STANDARD
TZOFFSETFROM:-0500
TZOFFSETTO:-0500
TZNAME:-05
DTSTART:20230101T000000
END:STANDARD
END:VTIMEZONE
BEGIN:VEVENT
DTSTART;TZID=America/Bogota:20231111T193000
DTEND;TZID=America/Bogota:20231111T193000
DTSTAMP:20260423T042003
CREATED:20231107T043133Z
LAST-MODIFIED:20231111T043457Z
UID:27551-1699731000-1699731000@eneldelia.gov.co
SUMMARY:NODO - VOLÁTIL
DESCRIPTION:Nodo – Cuerpos en movimiento: Volátil – Recitales de la desaparición \n\n\n\nEl Centro Nacional de las Artes Delia Zapata Olivella presenta: \n\n\n\nVolátil\, recitales de la desaparición. Volatilizar es un verbo que se refiere a un cambio de estado\, forma y consistencia. Es lo que queda de lo que desaparece y lo que desaparece de lo que queda. Es un estado liminal que\, como una ligera capa de seda\, es frágil de atravesar\, pero una vez al otro lado\, no se puede regresar. Es como una cuerda de guitarra que amenaza con romperse después de cada nota y no deja de llorar. Es una oscuridad perpetua que no puede evitar el alba y regresa de nuevo con el crepúsculo. Y\, sobre todo\, es carne\, la carne que se niega a desaparecer porque\, aunque irreconocible\, conserva sus surcos y cicatrices que continúan contando historias fragmentadas\, emergiendo a pesar del olvido. Desaparecer es el amor que se va\, el cuerpo que ya no se ve\, el amor que se queda sin cuerpo o el cuerpo que queda vacío\, sin amor. \n\n\n\n*Más información en: Nodo – Cuerpos en Movimiento \n\n\n\n\n\nFICHA TÉCNICA:\n\n\n\n \n\n\n\nSábado 11 de noviembre de 2023 \n\n\n\nSala Fanny MikeyCalle 10 # 5 – 60 Bogotá\, Colombia.Centro Nacional de las Artes Delia Zapata Olivella \n\n\n\n \n\n\n\n\nTUBOLETA
URL:https://eneldelia.gov.co/event/nodo-volatil/
CATEGORIES:Danza,Festivales
ATTACH;FMTTYPE=image/jpeg:/wp-content/uploads/2023/11/454x772_Nodo_Volátil.jpg
END:VEVENT
END:VCALENDAR