BEGIN:VCALENDAR
VERSION:2.0
PRODID:-//Centro Nacional de las Artes Delia Zapata Olivella - ECPv5.12.4//NONSGML v1.0//EN
CALSCALE:GREGORIAN
METHOD:PUBLISH
X-WR-CALNAME:Centro Nacional de las Artes Delia Zapata Olivella
X-ORIGINAL-URL:https://eneldelia.gov.co
X-WR-CALDESC:Events for Centro Nacional de las Artes Delia Zapata Olivella
REFRESH-INTERVAL;VALUE=DURATION:PT1H
X-Robots-Tag:noindex
X-PUBLISHED-TTL:PT1H
BEGIN:VTIMEZONE
TZID:America/Bogota
BEGIN:STANDARD
TZOFFSETFROM:-0500
TZOFFSETTO:-0500
TZNAME:-05
DTSTART:20240101T000000
END:STANDARD
END:VTIMEZONE
BEGIN:VEVENT
DTSTART;TZID=America/Bogota:20240719T193000
DTEND;TZID=America/Bogota:20240720T193000
DTSTAMP:20260423T182720
CREATED:20240708T202420Z
LAST-MODIFIED:20240713T052823Z
UID:40030-1721417400-1721503800@eneldelia.gov.co
SUMMARY:Ópera - Manuela Libertadora
DESCRIPTION:TuBoleta\n\n\n\n\n\n\n\n\nLa ópera ‘Manuela Libertadora: amor de Manuela y Simón o sueño de un país no fundado’\, es una obra musical escénica sobre el amor y los sueños políticos compartidos entre Manuela Sáenz y Simón Bolívar\, protagonistas de la historia suramericana y de nuestro mito humanista y trágico como nación\, que ya tiene más de doscientos años de vida\, interpretaciones y traiciones. \n\n\n\nEl libreto y la dramaturgia de esta ópera nacen de una larga investigación bibliográfica de las vidas de estos dos personajes y de los hechos heroicos y trágicos de los que fueron protagonistas. Algunos de ellos invisibilizados por la historia oficial que vio en Manuelita Sáenz una mujer del pecado y el escándalo\, al punto que tras la muerte del Libertador fue apresada y desterrada a un pueblo al norte del Perú\, en la frontera con Ecuador: Paita. \n\n\n\n\n\nINFORMACIÓN:\n\n\n\nFechas: 19 y 20 de julio de 2024 – 7:30 p.m. \n\n\n\nSala Delia ZapataCalle 11 # 5 – 60 Bogotá\, Colombia.Centro Nacional de las Artes Delia Zapata Olivella.
URL:https://eneldelia.gov.co/event/opera-manuela-libertadora/
CATEGORIES:Concierto,Música,ÓPERA Y ZARZUELA,Temporada Sinfónica
ATTACH;FMTTYPE=image/jpeg:/wp-content/uploads/2024/07/Banner-destacado-454x772-4.jpeg
END:VEVENT
END:VCALENDAR