BEGIN:VCALENDAR
VERSION:2.0
PRODID:-//Centro Nacional de las Artes Delia Zapata Olivella - ECPv5.12.4//NONSGML v1.0//EN
CALSCALE:GREGORIAN
METHOD:PUBLISH
X-WR-CALNAME:Centro Nacional de las Artes Delia Zapata Olivella
X-ORIGINAL-URL:https://eneldelia.gov.co
X-WR-CALDESC:Events for Centro Nacional de las Artes Delia Zapata Olivella
REFRESH-INTERVAL;VALUE=DURATION:PT1H
X-Robots-Tag:noindex
X-PUBLISHED-TTL:PT1H
BEGIN:VTIMEZONE
TZID:America/Bogota
BEGIN:STANDARD
TZOFFSETFROM:-0500
TZOFFSETTO:-0500
TZNAME:-05
DTSTART:20240101T000000
END:STANDARD
END:VTIMEZONE
BEGIN:VEVENT
DTSTART;TZID=America/Bogota:20240521T193000
DTEND;TZID=America/Bogota:20240521T193000
DTSTAMP:20260421T190107
CREATED:20240506T054125Z
LAST-MODIFIED:20240522T135043Z
UID:33977-1716319800-1716319800@eneldelia.gov.co
SUMMARY:Pomme
DESCRIPTION:TuBoleta\n\n\n\n\n\n\n\n\nPomme presenta su nuevo proyecto «Saisons». Un álbum conceptual y orquestal fuera de lo común. Esta obra está concebida como un acto teatral en dos movimientos: «otoño-invierno» y «primavera-verano». Estos dos actos\, aunque separados dan vida a las estaciones.  \n\n\n\nUn potente proyecto que pretende sorprender y que demuestra una vez más la singular visión artística de artista. \n\n\n\n\n\nINFORMACIÓN:\n\n\n\nFechas: 21 de mayo de 2024. \n\n\n\nHora: 7:30 p.m. \n\n\n\nSala Delia ZapataCalle 11 # 5 – 60 Bogotá\, Colombia.Centro Nacional de las Artes Delia Zapata Olivella.
URL:https://eneldelia.gov.co/event/pomme/
CATEGORIES:Concierto
ATTACH;FMTTYPE=image/jpeg:/wp-content/uploads/2024/04/pomme-agotado.jpg
END:VEVENT
END:VCALENDAR