BEGIN:VCALENDAR
VERSION:2.0
PRODID:-//Centro Nacional de las Artes Delia Zapata Olivella - ECPv5.12.4//NONSGML v1.0//EN
CALSCALE:GREGORIAN
METHOD:PUBLISH
X-WR-CALNAME:Centro Nacional de las Artes Delia Zapata Olivella
X-ORIGINAL-URL:https://eneldelia.gov.co
X-WR-CALDESC:Events for Centro Nacional de las Artes Delia Zapata Olivella
REFRESH-INTERVAL;VALUE=DURATION:PT1H
X-Robots-Tag:noindex
X-PUBLISHED-TTL:PT1H
BEGIN:VTIMEZONE
TZID:America/Bogota
BEGIN:STANDARD
TZOFFSETFROM:-0500
TZOFFSETTO:-0500
TZNAME:-05
DTSTART:20240101T000000
END:STANDARD
END:VTIMEZONE
BEGIN:VEVENT
DTSTART;TZID=America/Bogota:20240808T173000
DTEND;TZID=America/Bogota:20240808T173000
DTSTAMP:20260423T053049
CREATED:20240808T060512Z
LAST-MODIFIED:20240808T060556Z
UID:41107-1723138200-1723138200@eneldelia.gov.co
SUMMARY:Popon o los sueños de Tisquesusa
DESCRIPTION:II Encuentro de Pueblos Originarios\n\n\n\n\nEn ‘Popon o los sueños de Tisquesusa’\, el Zipa Tisquesusa navega en sueños terribles\, vive pesadillas que no lo dejan tranquilo\, y para interpretarlas ha llamado a todos los Chyquys\, magos y chamanes Muiscas. Sin embargo solo uno\, Popon\, el jeque de Ubaque\, podrá revelarle sus sueños y traer a la realidad la terrible interpretación\, que pronostica sangre\, muerte y exterminio\, no solo para el Zipa\, sino para todos los pueblos Muiscas e indígenas.​ \n\n\n\n‘Popon o los sueños de Tisquesusa’ hace parte de la trilogía teatral ‘El Desquite de los Ancestros’\, compuesta también por las obras ‘Atabí o la Última profecía de los Chibchas’ y ‘Guaytipan o la Gaitana’. El proceso de creación de esta tuvo una investigación antropológica donde exploraron las culturas muiscas y yalcones\, las cuales representan la base de la dramaturgia de los tres textos.   \n\n\n\nEn 2012 con la creación de la obra teatral “Rosa Cuchillo” nace el Colectivo Teatral Inti Amaru\, palabras quechuas que en español significan “La Sabiduría del Sol” y representan un equipo de artistas\, gestores y pedagogos interesados en la creación escénica interdisciplinaria desde la exploración del folclor\, el indigenismo y la práctica teatral. Se basa en dramaturgias propias que buscan reducir la invisibilización del indígena en la escena y valorizar las cosmogonías\, epistemologías\, sabidurías y prácticas indígenas que se interpretan de manera despectiva.  \n\n\n\nDurante más de diez años\, la Fundación Inti Amaru ha circulado varios trabajos por diferentes resguardos indígenas y afrocolombianos en el país.Este tipo de Teatro está cercano a la revolución lógica e histórica\, a la reivindicación espiritual y a la reconquista de los imaginarios\, el territorio\, la lengua\, y la identidad ancestral en la sociedad actual. \n\n\n\n* Entrada libre: Inscripción previa \n\n\n\n\n\nINFORMACIÓN:\n\n\n\nFecha: 8 de agosto de 2024 Hora: 7:30 p.m.Entrada libre con inscripción previa \n\n\n\nSala Delia ZapataCalle 11 # 5 – 60 Bogotá\, Colombia.Centro Nacional de las Artes Delia Zapata Olivella.
URL:https://eneldelia.gov.co/event/popon-o-los-suenos-de-tisquesusa/
CATEGORIES:Encuentro,Entrada Libre,II Pueblos Originarios,Teatro
ATTACH;FMTTYPE=image/jpeg:/wp-content/uploads/2024/08/Delia_Popon_Agosto_Destacado.jpeg
END:VEVENT
END:VCALENDAR