BEGIN:VCALENDAR
VERSION:2.0
PRODID:-//Centro Nacional de las Artes Delia Zapata Olivella - ECPv5.12.4//NONSGML v1.0//EN
CALSCALE:GREGORIAN
METHOD:PUBLISH
X-WR-CALNAME:Centro Nacional de las Artes Delia Zapata Olivella
X-ORIGINAL-URL:https://eneldelia.gov.co
X-WR-CALDESC:Events for Centro Nacional de las Artes Delia Zapata Olivella
REFRESH-INTERVAL;VALUE=DURATION:PT1H
X-Robots-Tag:noindex
X-PUBLISHED-TTL:PT1H
BEGIN:VTIMEZONE
TZID:America/Bogota
BEGIN:STANDARD
TZOFFSETFROM:-0500
TZOFFSETTO:-0500
TZNAME:-05
DTSTART:20230101T000000
END:STANDARD
END:VTIMEZONE
BEGIN:VEVENT
DTSTART;TZID=America/Bogota:20230927T000000
DTEND;TZID=America/Bogota:20231001T235959
DTSTAMP:20260422T081314
CREATED:20230925T135428Z
LAST-MODIFIED:20230925T175756Z
UID:25067-1695772800-1696204799@eneldelia.gov.co
SUMMARY:RE-VERSAR
DESCRIPTION:ReVersar – Festival de Cantautores  2023 \n\n\n\nEl Centro Nacional de las Artes Delia Zapata Olivella presenta: \n\n\n\nDel 27 de septiembre al 1 de octubre\, tendremos el primer festival de cantautores ‘Re-Versar‘ en el Centro Nacional de las Artes Delia Zapata Olivella. \n\n\n\nEste encuentro\, será un espacio dedicado a la escritura y composición de canciones\, donde se destacará el talento nacional e internacional. \n\n\n\nMás de 25 destacados músicos en Bogotá\, nos acompañarán con charlas\, conciertos y tres días de micrófono abierto. ‘Re-Versar’\, será una ocasión para sumergirnos en procesos creativos de cerca y\, explorar nuevos ritmos que se generan en la ciudad día tras día. \n\n\n\nAgéndate con este espacio dedicado a la música y la inspiración. \n\n\n\n*Algunos conciertos serán en la Sala Delia Zapata con boletería y otros\, serán en la Plazoleta CNA con entrada libre. \n\n\n\n\n\nFICHA TÉCNICA:\n\n\n\n \n\n\n\nFestival de Cantautores \n\n\n\nDel 27 de septiembre al 1 de octubre de 2023 \n\n\n\nCalle 10 # 5 – 60 Bogotá\, Colombia.Centro Nacional de las Artes Delia Zapata Olivella \n\n\n\n\nRE-VERSAR
URL:https://eneldelia.gov.co/event/re-versar/
CATEGORIES:Música
ATTACH;FMTTYPE=image/jpeg:/wp-content/uploads/2023/09/banner-destacado-100-4-Large.jpeg
END:VEVENT
END:VCALENDAR