BEGIN:VCALENDAR
VERSION:2.0
PRODID:-//Centro Nacional de las Artes Delia Zapata Olivella - ECPv5.12.4//NONSGML v1.0//EN
CALSCALE:GREGORIAN
METHOD:PUBLISH
X-WR-CALNAME:Centro Nacional de las Artes Delia Zapata Olivella
X-ORIGINAL-URL:https://eneldelia.gov.co
X-WR-CALDESC:Events for Centro Nacional de las Artes Delia Zapata Olivella
REFRESH-INTERVAL;VALUE=DURATION:PT1H
X-Robots-Tag:noindex
X-PUBLISHED-TTL:PT1H
BEGIN:VTIMEZONE
TZID:America/Bogota
BEGIN:STANDARD
TZOFFSETFROM:-0500
TZOFFSETTO:-0500
TZNAME:-05
DTSTART:20240101T000000
END:STANDARD
END:VTIMEZONE
BEGIN:VEVENT
DTSTART;TZID=America/Bogota:20240815T193000
DTEND;TZID=America/Bogota:20240815T193000
DTSTAMP:20260419T073709
CREATED:20240807T211431Z
LAST-MODIFIED:20240814T110227Z
UID:40224-1723750200-1723750200@eneldelia.gov.co
SUMMARY:Recital de flauta y piano
DESCRIPTION:TuBoleta\n\n\n\n\n\n\n\n\nContinúa la Temporada de Cámara con la presentación del flautista Gabriel Ahumada y la pianista Beatriz Batista. Ahumada\, reconocido como uno de los flautistas más destacados de Colombia\, inició su formación en el Conservatorio de la Universidad Nacional de Colombia y continuó en la Academia Superior de Música de Viena\, donde obtuvo diplomas de pedagogía y de concertista con honores. Ha actuado como solista con la Sinfónica de Ecuador\, la Wiener Kammerorchester\, la Sinfonieorchester Biel\, y la Orquesta Filarmónica de Brno\, entre otras.  \n\n\n\nPor su parte\, Beatriz Batista\, pianista nacida en La Habana\, Cuba\, se graduó del Conservatorio Amadeo Roldán y ha sido reconocida con premios como Mejor Pianista Acompañante en el concurso de Interpretación UNEAC 2011 y el Premio de canto de Bogotá 2020\, organizado por la Orquesta Filarmónica de Bogotá. Actualmente\, Beatriz es docente en el Departamento de Folklore de la Universidad Nacional de las Artes. El programa incluirá obras de Johann Christoph Friedrich Bach\, Pierre Boulez\, Theobald Böhm\, Wolfgang A. Mozart\, Felix Mendelssohn y Franz Schubert. \n\n\n\n\n\nINFORMACIÓN:\n\n\n\nFecha: 15 de agosto de 2024 – 7:30 p.m. \n\n\n\nSala Delia ZapataCalle 11 # 5 – 60 Bogotá\, Colombia.Centro Nacional de las Artes Delia Zapata Olivella.
URL:https://eneldelia.gov.co/event/recital-de-flauta-y-piano/
CATEGORIES:Concierto,Música,Temporada Sinfónica
ATTACH;FMTTYPE=image/jpeg:/wp-content/uploads/2024/07/Banner-destacado-454x772-6.jpeg
END:VEVENT
END:VCALENDAR