BEGIN:VCALENDAR
VERSION:2.0
PRODID:-//Centro Nacional de las Artes Delia Zapata Olivella - ECPv5.12.4//NONSGML v1.0//EN
CALSCALE:GREGORIAN
METHOD:PUBLISH
X-WR-CALNAME:Centro Nacional de las Artes Delia Zapata Olivella
X-ORIGINAL-URL:https://eneldelia.gov.co
X-WR-CALDESC:Events for Centro Nacional de las Artes Delia Zapata Olivella
REFRESH-INTERVAL;VALUE=DURATION:PT1H
X-Robots-Tag:noindex
X-PUBLISHED-TTL:PT1H
BEGIN:VTIMEZONE
TZID:America/Bogota
BEGIN:STANDARD
TZOFFSETFROM:-0500
TZOFFSETTO:-0500
TZNAME:-05
DTSTART:20240101T000000
END:STANDARD
END:VTIMEZONE
BEGIN:VEVENT
DTSTART;TZID=America/Bogota:20240929T150000
DTEND;TZID=America/Bogota:20240929T150000
DTSTAMP:20260421T090700
CREATED:20240918T045148Z
LAST-MODIFIED:20240923T155714Z
UID:42692-1727622000-1727622000@eneldelia.gov.co
SUMMARY:ReVersar - Paisajes y pregones
DESCRIPTION:Tuboleta\n\n\n\n\nLlega el Festival ReVersar del 28 al 29 de septiembre. Un evento que celebra la palabra desde distintas formas de expresión. \n\n\n\nEl Coro Nacional de Colombia surge en julio de 2023 en el marco del programa “Sonidos para la Construcción de Paz”\, liderado por el Ministerio de las Culturas\, las Artes y los Saberes a través del Viceministerio de las Artes y la Economía Cultural y Creativa.  Esta agrupación profesional es el resultado de la política participativa y diversificada que lidera el actual Gobierno Nacional\, fomentando la generación de nuevos empleos en el sector cultural.   \n\n\n\nConformado por 80 coreutas de todas las regiones de Colombia\, seleccionados mediante convocatoria pública\, su repertorio abarca desde música clásica hasta folclor colombiano y música contemporánea\, interpretando obras de distintos compositores nacionales e internacionales. \n\n\n\n\n\nINFORMACIÓN:\n\n\n\nFecha: 29 de septiembre de 2024 \n\n\n\nHora: 3:00 p.m. \n\n\n\n Festival ReVersar  \n\n\n\nSala Delia ZapataCentro Nacional de las ArtesDelia Zapata Olivella
URL:https://eneldelia.gov.co/event/reversar-paisajes-y-pregones/
CATEGORIES:Concierto
ATTACH;FMTTYPE=image/png:/wp-content/uploads/2024/09/banner-destacado-8-1-1.png
END:VEVENT
END:VCALENDAR