BEGIN:VCALENDAR
VERSION:2.0
PRODID:-//Centro Nacional de las Artes Delia Zapata Olivella - ECPv5.12.4//NONSGML v1.0//EN
CALSCALE:GREGORIAN
METHOD:PUBLISH
X-WR-CALNAME:Centro Nacional de las Artes Delia Zapata Olivella
X-ORIGINAL-URL:https://eneldelia.gov.co
X-WR-CALDESC:Events for Centro Nacional de las Artes Delia Zapata Olivella
REFRESH-INTERVAL;VALUE=DURATION:PT1H
X-Robots-Tag:noindex
X-PUBLISHED-TTL:PT1H
BEGIN:VTIMEZONE
TZID:America/Bogota
BEGIN:STANDARD
TZOFFSETFROM:-0500
TZOFFSETTO:-0500
TZNAME:-05
DTSTART:20240101T000000
END:STANDARD
END:VTIMEZONE
BEGIN:VEVENT
DTSTART;TZID=America/Bogota:20240208T193000
DTEND;TZID=America/Bogota:20240209T193000
DTSTAMP:20260422T144203
CREATED:20240131T230951Z
LAST-MODIFIED:20240512T202227Z
UID:29082-1707420600-1707507000@eneldelia.gov.co
SUMMARY:SANKOFA
DESCRIPTION:sankofa danza afro – detrás del sur danzas para manuel\n\n\n\nEs un homenaje al maestro Manuel Zapata Olivella basado en una de susobras más reconocidas: Changó\, el gran putas\, donde se conjugan su genio creativo y su meticuloso trabajo de documentación alrededor de la diáspora afrodescendiente en el continente americano.La obra explora referentes emblemáticos que conforman varios momentos de la epopeya en 5 actos de los ‘hijos del muntu’ en las Américas. \n\n\n\nDetrás del sur: danzas para Manuel invita a detenerse en una huella que permanece: la fuerza vital del muntu\, que continúa respaldando las resistencias afrodescendientes mediante la comunión bendita del cuerpo que danza y la música que invoca una memoria que perdura con las marcas de Changó en los brazos y el corazón de todos sus hijos. \n\n\n\n\n\nFICHA TÉCNICA:\n\n\n\n \n\n\n\n8 y 9 de febrero 7:30 p.m. \n\n\n\nSala Delia ZapataCalle 11 # 5 – 60 Bogotá\, Colombia.Centro Nacional de las Artes Delia Zapata Olivella. \n\n\n\n\nENTRADA LIBRE
URL:https://eneldelia.gov.co/event/sankofa/
CATEGORIES:Danza
ATTACH;FMTTYPE=image/jpeg:/wp-content/uploads/2024/01/danza-zankofa-destacado.jpeg
END:VEVENT
END:VCALENDAR