BEGIN:VCALENDAR
VERSION:2.0
PRODID:-//Centro Nacional de las Artes Delia Zapata Olivella - ECPv5.12.4//NONSGML v1.0//EN
CALSCALE:GREGORIAN
METHOD:PUBLISH
X-WR-CALNAME:Centro Nacional de las Artes Delia Zapata Olivella
X-ORIGINAL-URL:https://eneldelia.gov.co
X-WR-CALDESC:Events for Centro Nacional de las Artes Delia Zapata Olivella
REFRESH-INTERVAL;VALUE=DURATION:PT1H
X-Robots-Tag:noindex
X-PUBLISHED-TTL:PT1H
BEGIN:VTIMEZONE
TZID:America/Bogota
BEGIN:STANDARD
TZOFFSETFROM:-0500
TZOFFSETTO:-0500
TZNAME:-05
DTSTART:20240101T000000
END:STANDARD
END:VTIMEZONE
BEGIN:VEVENT
DTSTART;TZID=America/Bogota:20240809T100000
DTEND;TZID=America/Bogota:20240811T180000
DTSTAMP:20260424T081740
CREATED:20240808T071958Z
LAST-MODIFIED:20240808T071958Z
UID:41129-1723197600-1723399200@eneldelia.gov.co
SUMMARY:SIEMBRA- Instalación artística interactiva
DESCRIPTION:II Encuentro de Pueblos Originarios\n\n\n\n\n\n\n\n\nSiembra\, una metáfora de cómo los pensamientos bonitos\, representados por principios como escuchar a la Madre Tierra\, vivir bien y caminar la palabra\, pueden ser sembrados y cultivados para inspirar nuevas formas de pensar y actuar en el mundo contemporáneo.​​ \n\n\n\nEl Encuentro propone un enfoque holístico\, integrando saberes ancestrales con tecnologías modernas a través de un dispositivo tecnoviderso participativo en la Sala Fanny Mikey. Este dispositivo consta de cuatro estaciones diseñadas para fomentar la participación activa de comunidades y audiencias.​​ Allí habrá un juego interactivo\, un bosque sónico\, una chagra digital en la que se siembran los pensamientos bonitos y una proyección interactiva en el piso.​ \n\n\n\nSIEMBRA\nInstalación artística interactiva\n \n\n\n\n \n\n\n\n\n\nINFORMACIÓN:\n\n\n\nFechas: Del 9 al 11 de agosto de 2024 Entrada libreSala Fanny MikeyCalle 11 # 5 – 60 Bogotá\, Colombia.Centro Nacional de las Artes Delia Zapata Olivella.
URL:https://eneldelia.gov.co/event/siembra-instalacion-artistica-interactiva/
CATEGORIES:Encuentro,Entrada Libre,II Pueblos Originarios
ATTACH;FMTTYPE=image/jpeg:/wp-content/uploads/2024/08/Delia_Siembra_Agosto_Destacado.jpeg
END:VEVENT
END:VCALENDAR