BEGIN:VCALENDAR
VERSION:2.0
PRODID:-//Centro Nacional de las Artes Delia Zapata Olivella - ECPv5.12.4//NONSGML v1.0//EN
CALSCALE:GREGORIAN
METHOD:PUBLISH
X-WR-CALNAME:Centro Nacional de las Artes Delia Zapata Olivella
X-ORIGINAL-URL:https://eneldelia.gov.co
X-WR-CALDESC:Events for Centro Nacional de las Artes Delia Zapata Olivella
REFRESH-INTERVAL;VALUE=DURATION:PT1H
X-Robots-Tag:noindex
X-PUBLISHED-TTL:PT1H
BEGIN:VTIMEZONE
TZID:America/Bogota
BEGIN:STANDARD
TZOFFSETFROM:-0500
TZOFFSETTO:-0500
TZNAME:-05
DTSTART:20250101T000000
END:STANDARD
END:VTIMEZONE
BEGIN:VEVENT
DTSTART;TZID=America/Bogota:20250430T160000
DTEND;TZID=America/Bogota:20250430T180000
DTSTAMP:20260419T103307
CREATED:20250416T141016Z
LAST-MODIFIED:20250429T214837Z
UID:49627-1746028800-1746036000@eneldelia.gov.co
SUMMARY:Taller / Conversatorio -  Bailado con el Palenque de Delia
DESCRIPTION:Inscripción\n\n\n\n\nA través de una línea del tiempo vivencial\, el espacio propone un conversatorio bailado en el que confluyen la oralidad\, el movimiento y la música como formas propias de transmisión de saberes y de creación colectiva. La experiencia invita a recordar\, comprender y vivir el legado de las maestras Delia Zapata Olivella y su hija Edelmira Daza\, así como del grupo El Palenque de Delia\, dirigido por ambas y que hoy continúa preservando sus enseñanzas.  \n\n\n\nDesde 1954\, la maestra Delia Zapata y El Palenque de Delia asumieron la misión de divulgar las tradiciones populares colombianas y de fomentar la apropiación de estos conocimientos. Ese legado será el eje de este taller inmersivo\, que además celebra abril\, mes en el que nacieron Delia y Edelmira.  \n\n\n\nTalleristas: Ihan Betancourt Massa\, Felipe Guerra Baquero y Andrea Solano Galvis  \n\n\n\n\n\nINFORMACIÓN:\n\n\n\nFecha: 30 de abril de 2025 \n\n\n\nHoras: 4:00 p.m. a 6: 00 p.m. \n\n\n\nLugar: Sala MallarinoTeatro Colón \n\n\n\nBogotá – Colombia \n\n\n\nCentro Nacional de las ArtesDelia Zapata Olivella \n\n\n\nMinisterio de las Culturas\, las Artes y los Saberes
URL:https://eneldelia.gov.co/event/taller-conversatorio-bailado-con-el-palenque-de-delia/
CATEGORIES:Comunidad,CONVERSATORIO,Entrada Libre,Taller
ATTACH;FMTTYPE=image/jpeg:/wp-content/uploads/2025/04/CONVERSATORIO-PALENQUE-Post-Web-home-1080x1350-1.jpeg
END:VEVENT
END:VCALENDAR