BEGIN:VCALENDAR
VERSION:2.0
PRODID:-//Centro Nacional de las Artes Delia Zapata Olivella - ECPv5.12.4//NONSGML v1.0//EN
CALSCALE:GREGORIAN
METHOD:PUBLISH
X-WR-CALNAME:Centro Nacional de las Artes Delia Zapata Olivella
X-ORIGINAL-URL:https://eneldelia.gov.co
X-WR-CALDESC:Events for Centro Nacional de las Artes Delia Zapata Olivella
REFRESH-INTERVAL;VALUE=DURATION:PT1H
X-Robots-Tag:noindex
X-PUBLISHED-TTL:PT1H
BEGIN:VTIMEZONE
TZID:America/Bogota
BEGIN:STANDARD
TZOFFSETFROM:-0500
TZOFFSETTO:-0500
TZNAME:-05
DTSTART:20230101T000000
END:STANDARD
END:VTIMEZONE
BEGIN:VEVENT
DTSTART;TZID=America/Bogota:20230817T170000
DTEND;TZID=America/Bogota:20230817T190000
DTSTAMP:20260420T102405
CREATED:20230802T044304Z
LAST-MODIFIED:20230802T045104Z
UID:23104-1692291600-1692298800@eneldelia.gov.co
SUMMARY:TALLER DE ACTUACIÓN
DESCRIPTION:Ciclo de Talleres – Señar no cuesta nada \n\n\n\nEl laboratorio tendrá como objetivo la exploración de la receptividad colectiva y algunas herramientas técnicas como el centro\, la relación espacial y respuesta kinestésica. Para abordar estos elementos\, se compartirán una serie de juegos teatrales de repetición\, improvisación\, exploración\, coordinación\, y disociación. Se trabajarán también el disfrute de la creatividad\, la confianza en las propuestas propias\, y herramientas para el autocuidado. Ven a moverte junto con el elenco de la obra Solo Cuando Tengas Frío. \n\n\n\n*Apta para personas con o sin discapacidad auditiva. \n\n\n\n\n\nFICHA TÉCNICA:\n\n\n\nTALLER DE ACTUACIÓN:CONTINUIDAD\, ENERGÍA Y ACCIÓN \n\n\n\n17  de agosto / 5:00 p.m. a 7:00 p.m. \n\n\n\nSala Teatro ColónCalle 11 # 5 – 32 Bogotá\, Colombia. \n\n\n\nCentro Nacional de las Artes  Delia Zapata Olivella \n\n\n\n\nINSCRIPCIONES
URL:https://eneldelia.gov.co/event/taller-de-actuacion/
CATEGORIES:Comunidad,Taller,Teatro
ATTACH;FMTTYPE=image/jpeg:/wp-content/uploads/2023/08/Señar-actuación_Destacado.jpg
END:VEVENT
END:VCALENDAR