BEGIN:VCALENDAR
VERSION:2.0
PRODID:-//Centro Nacional de las Artes Delia Zapata Olivella - ECPv5.12.4//NONSGML v1.0//EN
CALSCALE:GREGORIAN
METHOD:PUBLISH
X-WR-CALNAME:Centro Nacional de las Artes Delia Zapata Olivella
X-ORIGINAL-URL:https://eneldelia.gov.co
X-WR-CALDESC:Events for Centro Nacional de las Artes Delia Zapata Olivella
REFRESH-INTERVAL;VALUE=DURATION:PT1H
X-Robots-Tag:noindex
X-PUBLISHED-TTL:PT1H
BEGIN:VTIMEZONE
TZID:America/Bogota
BEGIN:STANDARD
TZOFFSETFROM:-0500
TZOFFSETTO:-0500
TZNAME:-05
DTSTART:20240101T000000
END:STANDARD
END:VTIMEZONE
BEGIN:VEVENT
DTSTART;TZID=America/Bogota:20240524T093000
DTEND;TZID=America/Bogota:20240526T093000
DTSTAMP:20260421T125836
CREATED:20240519T151403Z
LAST-MODIFIED:20240519T153411Z
UID:37467-1716543000-1716715800@eneldelia.gov.co
SUMMARY:Mediación corporal afro - Danza afro 
DESCRIPTION:Delia es Afro\n\n\n\n\n\nMediación corporal afro – Danza afro \n\n\n\n\nDescripción: Será un espacio de activación y movimiento corporal con ritmos y sonoridades afrodiaspóricas.  \n\n\n\n24 de mayo Dirige: Diana Cortés ( Directora de Pacific Dance – Tumaco\, Colombia)   \n\n\n\nPerfil: Licenciada en lengua castellana y literatura\, gestora cultural y bailarina con 12 años de experiencia desarrollada a través de procesos comunitarios\, con enfoque étnico\, de género\, de la niñez y la juventud que propenden al desarrollo de las comunidades en situación de riesgo y vulnerabilidad.  \n\n\n\nDirectora de la agrupación Pacific Dance de Tumaco Nariño creada el 10 de abril de 2012 donde brindan espacios protectores de arte con sentido a los niños\, niñas y jóvenes del distrito de Tumaco que se encuentran en situación vulnerabilidad por las afecciones del conflicto armado.   \n\n\n\n26 de mayo Dirige: Oswaldo Marchionda – Artista escénico\, investigador\, docente y gestor cultural (Venezuela).  \n\n\n\nPerfil: Artista escénico\, investigador\, docente y gestor cultural venezolano. Intérprete – creador de movilidades en prácticas contemporáneas. Antropólogo con postgrado en Gestión Cultural y Cooperación Internacional. Aspirante al Doctorado de Artes y Culturas del Sur. Docente asociado de UNEARTE.  Miembro de la Fundación Cultural 100% San Agustín. El ritual y la improvisación son los territorios de su pensamiento-creación.  \n\n\n\nDescripción: Un espacio de activación y movimiento corporal con ritmos y sonoridades afrodiaspóricas.  \n\n\n\n\n\n\n\n\n\n\n\n\n\nINFORMACIÓN:\n\n\n\nFechas:  \n\n\n\n\n24 de mayo – 9:30 a.m.Dirige: Diana Cortés \n\n\n\n26 de mayo – 9:30 a.m.Dirige: Oswaldo Marchionda\n\n\n\n\nEntrada libre  \n\n\n\nPlazoletaCalle 11 # 5 – 60 Bogotá\, Colombia.Centro Nacional de las Artes Delia Zapata Olivella.
URL:https://eneldelia.gov.co/event/taller-de-danza-corporal_afro/
CATEGORIES:Danza,Encuentro,Entrada Libre,Taller
ATTACH;FMTTYPE=image/jpeg:/wp-content/uploads/2024/05/Talleres-destacado_Post-8.jpg
END:VEVENT
END:VCALENDAR