BEGIN:VCALENDAR
VERSION:2.0
PRODID:-//Centro Nacional de las Artes Delia Zapata Olivella - ECPv5.12.4//NONSGML v1.0//EN
CALSCALE:GREGORIAN
METHOD:PUBLISH
X-WR-CALNAME:Centro Nacional de las Artes Delia Zapata Olivella
X-ORIGINAL-URL:https://eneldelia.gov.co
X-WR-CALDESC:Events for Centro Nacional de las Artes Delia Zapata Olivella
REFRESH-INTERVAL;VALUE=DURATION:PT1H
X-Robots-Tag:noindex
X-PUBLISHED-TTL:PT1H
BEGIN:VTIMEZONE
TZID:America/Bogota
BEGIN:STANDARD
TZOFFSETFROM:-0500
TZOFFSETTO:-0500
TZNAME:-05
DTSTART:20240101T000000
END:STANDARD
END:VTIMEZONE
BEGIN:VEVENT
DTSTART;TZID=America/Bogota:20240522T170000
DTEND;TZID=America/Bogota:20240522T170000
DTSTAMP:20260421T160653
CREATED:20240519T143506Z
LAST-MODIFIED:20240522T172456Z
UID:37456-1716397200-1716397200@eneldelia.gov.co
SUMMARY:Taller de Danzas afroperuanas - Danza Son de los Diablos
DESCRIPTION:Delia es Afro\n\n\n\n\n\nTaller de Danzas afroperuanas: \n\n\n\n\nDanza Son de los Diablos con Sara Calmet (Perú)  \n\n\n\nEntrada libre con inscripción previa  (Aforo: 35 participantes)  \n\n\n\nDirigido a:  Personas con o sin experiencia en la danza interesadas en movimiento y prácticas artísticas.  \n\n\n\nEste taller apunta principalmente a visibilizar la cultura y las danzas afroperuanas sin perder su origen\,  ÁFRICA\, que\, con la venida de los españoles\, llegaron como esclavizadas las personas negras del continente africano\, estos a su vez provienen de diferentes etnias\, regiones\, países\, naciones del mencionado continente buscando cultivar\, difundir e investigar reivindicando al afro sin perder la tradicionalidad de la cultura afroperuana y preservarla teniendo como medio a los niños y jóvenes.  \n\n\n\nDirige: Sara Calmet – Maestra de Arte y Cultura\, Artista Profesional (Perú) t – Maestra de Arte y Cultura\, Artista Profesional (Perú).  \n\n\n\n\nFormulario de Inscripción\n\n\n\n\n\n\n\n\n\n\nINFORMACIÓN:\n\n\n\nFecha: 22 de mayo – 5:00 p.m. \n\n\n\nEntrada libre con inscripción previa (Aforo: 35 participantes)  \n\n\n\nSala MallarinoCalle 10 # 5 – 32 Bogotá\, Colombia.Centro Nacional de las Artes Delia Zapata Olivella.
URL:https://eneldelia.gov.co/event/taller-de-danzas-afroperuanas-danza-son-de-los-diablos/
CATEGORIES:Danza,Encuentro,Entrada Libre,Taller
ATTACH;FMTTYPE=image/jpeg:/wp-content/uploads/2024/05/Talleres-destacado_Post-3.jpg
END:VEVENT
END:VCALENDAR