BEGIN:VCALENDAR
VERSION:2.0
PRODID:-//Centro Nacional de las Artes Delia Zapata Olivella - ECPv5.12.4//NONSGML v1.0//EN
CALSCALE:GREGORIAN
METHOD:PUBLISH
X-WR-CALNAME:Centro Nacional de las Artes Delia Zapata Olivella
X-ORIGINAL-URL:https://eneldelia.gov.co
X-WR-CALDESC:Events for Centro Nacional de las Artes Delia Zapata Olivella
REFRESH-INTERVAL;VALUE=DURATION:PT1H
X-Robots-Tag:noindex
X-PUBLISHED-TTL:PT1H
BEGIN:VTIMEZONE
TZID:America/Bogota
BEGIN:STANDARD
TZOFFSETFROM:-0500
TZOFFSETTO:-0500
TZNAME:-05
DTSTART:20250101T000000
END:STANDARD
END:VTIMEZONE
BEGIN:VEVENT
DTSTART;TZID=America/Bogota:20250827T193000
DTEND;TZID=America/Bogota:20250828T193000
DTSTAMP:20260424T081740
CREATED:20250806T152403Z
LAST-MODIFIED:20250810T162254Z
UID:54045-1756323000-1756409400@eneldelia.gov.co
SUMMARY:Teatro - El Problema del mal
DESCRIPTION:TuBoleta\n\n\n\n\nLa obra de la compañía AbraTeatro sigue a Elizabeth Costello\, una escritora veterana y polémica\, invitada a Ámsterdam para dictar una conferencia sobre “el eterno problema del mal”. Durante su intervención\, Costello explora la ética del artista ante la narración de horrores históricos y los límites de lo moral en la era contemporánea\, recurriendo para ello a una punzante revisión de la novela de un autor inglés.  \n\n\n\nEl conflicto se intensifica cuando descubre que dicho escritor también asistirá al evento\, desatando en ella una profunda crisis de autocuestionamiento y replanteamiento de sus propias ideas. La puesta en escena —a tres voces\, alrededor de una mesa de conferencias y con apoyo gráfico— apuesta por la palabra como protagonista\, desnudando con agudeza\, ironía y humor las tensiones internas y éticas de Costello. Así\, el montaje interpela al público sobre la responsabilidad de los artistas al narrar el horror histórico\, planteando preguntas urgentes sobre el papel del arte y la ética en contextos marcados por la violencia y la memoria. \n\n\n\n\n\nINFORMACIÓN:\n\n\n\nFechas: 27 y 28 de agosto de 2025 \n\n\n\nHora:  7:30 p.m. \n\n\n\nLugar: Sala Fanny Mikey \n\n\n\nBogotá – Colombia \n\n\n\nCentro Nacional de las ArtesDelia Zapata Olivella \n\n\n\nMinisterio de las Culturas\, las Artes y los Saberes
URL:https://eneldelia.gov.co/event/teatro-el-problema-del-mal/
CATEGORIES:Entrada con Boletería,Teatro
ATTACH;FMTTYPE=image/jpeg:/wp-content/uploads/2025/08/el-problema-del-mal-Post-Web-home-1080x1350-1.jpg
END:VEVENT
END:VCALENDAR