BEGIN:VCALENDAR
VERSION:2.0
PRODID:-//Centro Nacional de las Artes Delia Zapata Olivella - ECPv5.12.4//NONSGML v1.0//EN
CALSCALE:GREGORIAN
METHOD:PUBLISH
X-WR-CALNAME:Centro Nacional de las Artes Delia Zapata Olivella
X-ORIGINAL-URL:https://eneldelia.gov.co
X-WR-CALDESC:Events for Centro Nacional de las Artes Delia Zapata Olivella
REFRESH-INTERVAL;VALUE=DURATION:PT1H
X-Robots-Tag:noindex
X-PUBLISHED-TTL:PT1H
BEGIN:VTIMEZONE
TZID:America/Bogota
BEGIN:STANDARD
TZOFFSETFROM:-0500
TZOFFSETTO:-0500
TZNAME:-05
DTSTART:20250101T000000
END:STANDARD
END:VTIMEZONE
BEGIN:VEVENT
DTSTART;TZID=America/Bogota:20250914T150000
DTEND;TZID=America/Bogota:20250914T150000
DTSTAMP:20260420T133821
CREATED:20250818T155623Z
LAST-MODIFIED:20250908T132948Z
UID:54519-1757862000-1757862000@eneldelia.gov.co
SUMMARY:Teatro - La ballena llena
DESCRIPTION:TuBoleta\n\n\n\n\nLa ballena llena es una obra familiar que relata la travesía de dos trapecistas que navegan por los siete mares en busca de Roma\, la ciudad donde nacieron\, hace un poco más de cincuenta años. Los hermanos Bertolini: Bertolino y Bertolina se ganan la vida en las carpas de los circos recorriendo el mundo\, haciendo piruetas en un trapecio. Por un pequeño resbalón que sufrieron en la última función cayeron a la calle y por alguna extraña razón\, terminaron en la panza de Helena la Ballena que va llena.  \n\n\n\nCon una narrativa divertida y entrañable\, la obra combina música original\, interpretación actoral y una puesta en escena cargada de simbolismo y ternura. Fue ganadora de la doceava convocatoria municipal de estímulos de la Secretaría de Cultura de Pereira en 2023\, en la categoría de creación teatral. Es una obra para reír\, cantar y reencontrarse con la magia de lo esencial. \n\n\n\n\n\n\n\n\n\n\n\nINFORMACIÓN:\n\n\n\nFecha: 14 de septiembre 2025 \n\n\n\nHora: 3:00 p.m. \n\n\n\nLugar: Sala Fanny Mikey \n\n\n\nBogotá – Colombia \n\n\n\nCentro Nacional de las ArtesDelia Zapata Olivella \n\n\n\nMinisterio de las Culturas\, las Artes y los Saberes
URL:https://eneldelia.gov.co/event/teatro-la-ballena-llena/
CATEGORIES:Entrada con Boletería,Rin Rin,Teatro
ATTACH;FMTTYPE=image/jpeg:/wp-content/uploads/2025/08/BallenaLlena_IG1.jpeg
END:VEVENT
END:VCALENDAR