BEGIN:VCALENDAR
VERSION:2.0
PRODID:-//Centro Nacional de las Artes Delia Zapata Olivella - ECPv5.12.4//NONSGML v1.0//EN
CALSCALE:GREGORIAN
METHOD:PUBLISH
X-WR-CALNAME:Centro Nacional de las Artes Delia Zapata Olivella
X-ORIGINAL-URL:https://eneldelia.gov.co
X-WR-CALDESC:Events for Centro Nacional de las Artes Delia Zapata Olivella
REFRESH-INTERVAL;VALUE=DURATION:PT1H
X-Robots-Tag:noindex
X-PUBLISHED-TTL:PT1H
BEGIN:VTIMEZONE
TZID:America/Bogota
BEGIN:STANDARD
TZOFFSETFROM:-0500
TZOFFSETTO:-0500
TZNAME:-05
DTSTART:20250101T000000
END:STANDARD
END:VTIMEZONE
BEGIN:VEVENT
DTSTART;TZID=America/Bogota:20250830T150000
DTEND;TZID=America/Bogota:20250830T150000
DTSTAMP:20260424T052619
CREATED:20250807T222343Z
LAST-MODIFIED:20250902T123431Z
UID:54126-1756566000-1756566000@eneldelia.gov.co
SUMMARY:Teatro - Uater Lu
DESCRIPTION:TuBoleta\n\n\n\n\nUater Lu es una obra de teatro familiar que reflexiona sobre la importancia de cuidar el medio ambiente. Ganadora de la Beca de Creación Teatral del Ministerio de Cultura\, 2024\, la obra parte de una pregunta dramatúrgica: ¿Qué sucedería si el agua se acabara en la Tierra? \n\n\n\nEn un mundo distópico\, donde el agua pura ha desaparecido\, dos niñas emprenden un viaje en busca de la última fuente cristalina. En su recorrido encuentran personajes y situaciones que invitan al público a reconocer los peligros de la contaminación causada por el uso excesivo de plásticos\, la minería y el consumismo. \n\n\n\nLa propuesta también ofrece una forma lúdica de acercar a niños y niñas a la ciencia\, pues muchos de los personajes están inspirados en elementos de la tabla periódica; de allí el nombre de Lu (lutecio) y de su amiga Ta (tántalo). \n\n\n\nFinalmente\, Uater Lu es una apuesta estética llena de ternura y magia\, que exalta el valor de la amistad y la importancia de no perder la fe en los sueños. La obra esboza posibles soluciones para el cuidado de la Tierra\, como el reciclaje de plásticos y la conservación de los páramos\, todo desde la poética teatral. \n\n\n\n\n\nINFORMACIÓN:\n\n\n\nFecha: 30 de agosto de 2025 \n\n\n\nHora: 3:00 p.m. \n\n\n\nLugar: Sala Delia Zapata \n\n\n\nBogotá – Colombia \n\n\n\nFranja: Rin Rin \n\n\n\nCentro Nacional de las ArtesDelia Zapata Olivella \n\n\n\nMinisterio de las Culturas\, las Artes y los Saberes
URL:https://eneldelia.gov.co/event/teatro-uater-lu/
CATEGORIES:Entrada con Boletería,Rin Rin,Teatro
ATTACH;FMTTYPE=image/jpeg:/wp-content/uploads/2025/08/Uater-Lu_IG1.jpeg
END:VEVENT
END:VCALENDAR