BEGIN:VCALENDAR
VERSION:2.0
PRODID:-//Centro Nacional de las Artes Delia Zapata Olivella - ECPv5.12.4//NONSGML v1.0//EN
CALSCALE:GREGORIAN
METHOD:PUBLISH
X-WR-CALNAME:Centro Nacional de las Artes Delia Zapata Olivella
X-ORIGINAL-URL:https://eneldelia.gov.co
X-WR-CALDESC:Events for Centro Nacional de las Artes Delia Zapata Olivella
REFRESH-INTERVAL;VALUE=DURATION:PT1H
X-Robots-Tag:noindex
X-PUBLISHED-TTL:PT1H
BEGIN:VTIMEZONE
TZID:America/Bogota
BEGIN:STANDARD
TZOFFSETFROM:-0500
TZOFFSETTO:-0500
TZNAME:-05
DTSTART:20240101T000000
END:STANDARD
END:VTIMEZONE
BEGIN:VEVENT
DTSTART;TZID=America/Bogota:20240922T140000
DTEND;TZID=America/Bogota:20240922T140000
DTSTAMP:20260421T110911
CREATED:20240912T034231Z
LAST-MODIFIED:20240921T042449Z
UID:41918-1727013600-1727013600@eneldelia.gov.co
SUMMARY:Todos podemos cantar - La Cruzada
DESCRIPTION:Entrada Libre\n\n\n\n\nLa Franja Familia ColoR junta dos presentaciones en un concierto para toda la familia. En las horas de la mañana\, el padre de la música infantil en Colombia\, Jairo Ojeda\, interpretará sus reconocidas y coloridas canciones\, que invitan a reconocer los ritmos colombianos y a explorar el universo de los niños y las niñas con canciones como “Chontaduro maduro”\, “Se cayó la Luna” o “El granito y el pollito”. Luego\, en la tarde\, el grupo cubano La Cruzada llegará a la Plazoleta del Delia con su música para pensar bailando: una propuesta que vincula la música cubana y caribeña con la sonoridad urbana y el hip hop y que se ha ganado el reconocimiento en la región por su originalidad y capacidad de conectar con públicos diversos y de todas las edades. \n\n\n\nInformación relacionada: Talleres – La Cruzada \n\n\n\n\n\nINFORMACIÓN:\n\n\n\nFecha: 22 de septiembre de 2024 \n\n\n\nHora: 2:00 p.m. \n\n\n\nFranja Familia ColoR \n\n\n\nPlazoleta del DeliaCentro Nacional de las Artes Delia Zapata Olivella
URL:https://eneldelia.gov.co/event/todos-podemos-cantar/
CATEGORIES:Comunidad,Concierto,Entrada Libre,Rin Rin
ATTACH;FMTTYPE=image/jpeg:/wp-content/uploads/2024/08/Delia_Todos-podemos-cantar_Septiembre_Destacado-1.jpg
END:VEVENT
END:VCALENDAR