BEGIN:VCALENDAR
VERSION:2.0
PRODID:-//Centro Nacional de las Artes Delia Zapata Olivella - ECPv5.12.4//NONSGML v1.0//EN
CALSCALE:GREGORIAN
METHOD:PUBLISH
X-WR-CALNAME:Centro Nacional de las Artes Delia Zapata Olivella
X-ORIGINAL-URL:https://eneldelia.gov.co
X-WR-CALDESC:Events for Centro Nacional de las Artes Delia Zapata Olivella
REFRESH-INTERVAL;VALUE=DURATION:PT1H
X-Robots-Tag:noindex
X-PUBLISHED-TTL:PT1H
BEGIN:VTIMEZONE
TZID:America/Bogota
BEGIN:STANDARD
TZOFFSETFROM:-0500
TZOFFSETTO:-0500
TZNAME:-05
DTSTART:20230101T000000
END:STANDARD
END:VTIMEZONE
BEGIN:VEVENT
DTSTART;TZID=America/Bogota:20230922T170000
DTEND;TZID=America/Bogota:20231001T150000
DTSTAMP:20260422T124145
CREATED:20230920T193624Z
LAST-MODIFIED:20230920T194105Z
UID:25259-1695402000-1696172400@eneldelia.gov.co
SUMMARY:VISITA ACCESIBLE CORRESPONDENCES
DESCRIPTION:Capas de Percepción – Rutas multisensoriales en la exposición Correspondences \n\n\n\nEl Centro Nacional de las Artes Delia Zapata Olivella invita: \n\n\n\nEn el marco del mes de la persona sorda y de la lengua de señas\, te invitamos a la exposición Correspondences de Patti Smith y Soundwalk Collective. \n\n\n\nNuestra mediador sorda Magda Vargas será la guía en esta experiencia que invita a todo tipo de público\, oyentes y sordos\, a conocer las capas visuales y sonoras de esta instalación multicanal. \n\n\n\n*Entrada libre con inscripción previa. \n\n\n\n\n\nFICHA TÉCNICA:\n\n\n\n \n\n\n\nVisitas MultisensorialesViernes 22 y 29 de septiembre / 5:00 p.m.Domingos 24 de septiembre y 1º de octubre / 3:00 p.m. \n\n\n\nVisitas  LSCSábados 23 y 30 de septiembre / 11:00 a.m.Domingos 24 de septiembre y 1º de octubre / 11:00 a.m. \n\n\n\nEdad mínima: 15 años \n\n\n\nSala Fanny MikeyCalle 10 # 5 – 60 Bogotá\, Colombia.Centro Nacional de las Artes Delia Zapata Olivella \n\n\n\n\nINSCRIPCIONES
URL:https://eneldelia.gov.co/event/visita-accesible-correspondences/
CATEGORIES:Comunidad,VISITAS
ATTACH;FMTTYPE=image/jpeg:/wp-content/uploads/2023/09/Visita-accesible-Correspondences_Destacado-Large.jpeg
END:VEVENT
END:VCALENDAR