BEGIN:VCALENDAR
VERSION:2.0
PRODID:-//Centro Nacional de las Artes Delia Zapata Olivella - ECPv5.12.4//NONSGML v1.0//EN
CALSCALE:GREGORIAN
METHOD:PUBLISH
X-WR-CALNAME:Centro Nacional de las Artes Delia Zapata Olivella
X-ORIGINAL-URL:https://eneldelia.gov.co
X-WR-CALDESC:Events for Centro Nacional de las Artes Delia Zapata Olivella
REFRESH-INTERVAL;VALUE=DURATION:PT1H
X-Robots-Tag:noindex
X-PUBLISHED-TTL:PT1H
BEGIN:VTIMEZONE
TZID:America/Bogota
BEGIN:STANDARD
TZOFFSETFROM:-0500
TZOFFSETTO:-0500
TZNAME:-05
DTSTART:20230101T000000
END:STANDARD
END:VTIMEZONE
BEGIN:VEVENT
DTSTART;TZID=America/Bogota:20230827T100000
DTEND;TZID=America/Bogota:20230827T100000
DTSTAMP:20260421T044106
CREATED:20230825T230405Z
LAST-MODIFIED:20230825T230823Z
UID:24727-1693130400-1693130400@eneldelia.gov.co
SUMMARY:VISITA SENSORIAL
DESCRIPTION:CNA Accesible- Visita Guiada  Multisensorial \n\n\n\n!El Centro Nacional de las Artes Delia Zapata Olivella es un espacio accesible para todos! \n\n\n\nEste domingo\, tenemos visitas guiadas accesibles a la Sala Teatro Colón para conocer todos sus detalles y secretos. Recuerda que estas visitas son aptas para personas con o sin discapacidad. \n\n\n\nEntrada libre con inscripción previa. \n\n\n\n\n\nFICHA TÉCNICA:\n\n\n\n \n\n\n\n27  de agosto / 10:00 m. \n\n\n\nSala Teatro ColónCalle 11 # 5 – 32 Bogotá\, Colombia. \n\n\n\nCentro Nacional de las Artes  Delia Zapata Olivella \n\n\n\n\nINSCRIPCIONES
URL:https://eneldelia.gov.co/event/visita-sensorial/
CATEGORIES:Comunidad,Teatro,VISITAS
ATTACH;FMTTYPE=image/jpeg:/wp-content/uploads/2023/08/Visita-Multisensorial_Destacado-Large-1.jpeg
END:VEVENT
END:VCALENDAR